BEGIN:VCALENDAR
VERSION:2.0
PRODID:-//ChamberMaster//Event Calendar 2.0//EN
METHOD:PUBLISH
X-PUBLISHED-TTL:P3D
REFRESH-INTERVAL:P3D
CALSCALE:GREGORIAN
BEGIN:VEVENT
DTSTART:20081212T050000Z
DTEND:20081212T050000Z
X-MICROSOFT-CDO-ALLDAYEVENT:FALSE
SUMMARY:Youth Winter Movie Night
DESCRIPTION:Newburyport Youth Services is happy to offer a free movie night for youth in grades 6-8 while parents shop at Invitation Night downtown. Drinks and popcorn for sale.
X-ALT-DESC;FMTTYPE=text/html:Newburyport Youth Services is happy to offer a free movie night for youth in grades 6-8 while parents shop at Invitation Night downtown. Drinks and popcorn for sale.
LOCATION:Newburyport City Hall
UID:e.1189.1073
SEQUENCE:3
DTSTAMP:20260422T094243Z
URL:https://business.newburyportchamber.org/events/details/youth-winter-movie-night-12-12-2008-1073
END:VEVENT

END:VCALENDAR
