BEGIN:VCALENDAR
VERSION:2.0
PRODID:-//ChamberMaster//Event Calendar 2.0//EN
METHOD:PUBLISH
X-PUBLISHED-TTL:P3D
REFRESH-INTERVAL:P3D
CALSCALE:GREGORIAN
BEGIN:VEVENT
DTSTART;VALUE=DATE:20110817
DTEND;VALUE=DATE:20110818
TRANSP:TRANSPARENT
X-MICROSOFT-CDO-ALLDAYEVENT:TRUE
SUMMARY:Young Person's Program with Chuck Speicher (for children 5 and up)
DESCRIPTION:"Telling Stories with Music: Ancient Chinese Legends To Star Wars"\n\n	Bejing Opera to "Star Wars" using costumes\, multimedia\, and audience participation.
X-ALT-DESC;FMTTYPE=text/html:<p class="schedule-work">\n	<strong>&quot\;Telling Stories with Music: Ancient Chinese Legends To Star Wars&quot\;</strong><br />\n	Bejing Opera to &quot\;Star Wars&quot\; using costumes\, multimedia\, and audience&nbsp\;participation.<strong> </strong></p>\n<p class="schedule-venue">\n	<br />\n	&nbsp\;</p>\n
LOCATION:G.A.R. Memorial Library 490 Main Street\, West Newbury
UID:e.1189.2070
SEQUENCE:3
DTSTAMP:20260420T002249Z
URL:https://business.newburyportchamber.org/events/details/young-person-s-program-with-chuck-speicher-for-children-5-and-up-08-17-2011-2070
END:VEVENT

END:VCALENDAR
