BEGIN:VCALENDAR
VERSION:2.0
PRODID:-//ChamberMaster//Event Calendar 2.0//EN
METHOD:PUBLISH
X-PUBLISHED-TTL:P3D
REFRESH-INTERVAL:P3D
CALSCALE:GREGORIAN
BEGIN:VEVENT
DTSTART;VALUE=DATE:20110816
DTEND;VALUE=DATE:20110817
TRANSP:TRANSPARENT
X-MICROSOFT-CDO-ALLDAYEVENT:TRUE
SUMMARY:Young Person's Program with Chuck Speicher (for children 5 and up)
DESCRIPTION:11:00   12:00 PM\n\n	"Opera: Devious Villains and Damsels in Distress" \n\n	A fun journey through the history of opera using soundtracks and volunteers from the audience.\n\n	Theater in the Open (Google Maps)\n\n	1 Spring Lane\,\n\n	Newburyport\, MA\n\n	Free of charge\n\n	\n\n	6:00 7:00 PM\n\n	"Telling Stories with Music: Ancient Chinese Legends To Star Wars"\n\n	Bejing Opera to "Star Wars" using costumes\, multimedia\, and audience participation. \n\n	Merrimac Public Library (Google Maps)\n\n	86 West Main Street\,\n\n	Merrimac\n\n	Free of charge
X-ALT-DESC;FMTTYPE=text/html:11:00 &ndash\; 12:00 PM\n<p class="schedule-work">\n	<strong>&quot\;Opera: Devious Villains and Damsels in Distress&quot\; </strong><br />\n	A fun journey through the history of opera using soundtracks and volunteers from the audience.</p>\n<p class="schedule-venue">\n	Theater in the Open <a href="http://maps.google.com/maps?q=1+Spring+Lane\,+Newburyport\,+MA&amp\;hl=en&amp\;sll=42.829819\,-70.916042&amp\;sspn=0.008482\,0.015836&amp\;z=14" target="_new">(Google Maps)</a><br />\n	1 Spring Lane\,<br />\n	Newburyport\, MA<br />\n	Free of charge</p>\n<p class="schedule-title">\n	<br />\n	6:00&ndash\;7:00 PM</p>\n<p class="schedule-work">\n	<strong>&quot\;Telling Stories with Music: Ancient Chinese Legends To Star Wars&quot\;</strong><br />\n	Bejing Opera to &quot\;Star Wars&quot\; using costumes\, multimedia\, and audience&nbsp\;participation.<strong> </strong></p>\n<p class="schedule-venue">\n	Merrimac Public Library <a href="http://maps.google.com/maps?q=86+west+main+st\,+merrimac\,+ma&amp\;hl=en&amp\;sll=42.763335\,-70.938034&amp\;sspn=0.033964\,0.063343&amp\;z=14" target="_new">(Google Maps)</a><br />\n	86 West Main Street\,<br />\n	Merrimac<br />\n	Free of charge</p>\n
LOCATION:
UID:e.1189.2065
SEQUENCE:3
DTSTAMP:20260419T224528Z
URL:https://business.newburyportchamber.org/events/details/young-person-s-program-with-chuck-speicher-for-children-5-and-up-08-16-2011-2065
END:VEVENT

END:VCALENDAR
