BEGIN:VCALENDAR
VERSION:2.0
PRODID:-//ChamberMaster//Event Calendar 2.0//EN
METHOD:PUBLISH
X-PUBLISHED-TTL:P3D
REFRESH-INTERVAL:P3D
CALSCALE:GREGORIAN
BEGIN:VEVENT
DTSTART:20080731T040000Z
DTEND:20080802T040000Z
X-MICROSOFT-CDO-ALLDAYEVENT:FALSE
SUMMARY:Yankee Homecoming Sidewalk Sales 2008
DESCRIPTION:Old Fashioned Sidewalk Sales. This is a great place to pick up end of summer deals on clothing\, jewelry\, home decor and more!
X-ALT-DESC;FMTTYPE=text/html:<DIV>Old Fashioned Sidewalk Sales. This is a great place to pick up end of summer deals on clothing\, jewelry\, home decor and more!</DIV><DIV>&nbsp\;</DIV><DIV>&nbsp\;</DIV><DIV>&nbsp\;</DIV><DIV>&nbsp\;</DIV>
LOCATION:Downtown\, The Tannery\, Port Plaza
UID:e.1189.997
SEQUENCE:3
DTSTAMP:20260422T162102Z
URL:https://business.newburyportchamber.org/events/details/yankee-homecoming-sidewalk-sales-2008-07-31-2008-997
END:VEVENT

END:VCALENDAR
