BEGIN:VCALENDAR
VERSION:2.0
PRODID:-//ChamberMaster//Event Calendar 2.0//EN
METHOD:PUBLISH
X-PUBLISHED-TTL:P3D
REFRESH-INTERVAL:P3D
CALSCALE:GREGORIAN
BEGIN:VEVENT
DTSTART:20110802T220000Z
DTEND:20110803T010000Z
X-MICROSOFT-CDO-ALLDAYEVENT:FALSE
SUMMARY:Yankee Homecoming 10 mile & 5k Road Race
DESCRIPTION:
X-ALT-DESC;FMTTYPE=text/html:
LOCATION:Start and finish line: NEWBURYPORT HIGH SCHOOL 241 High Street Newburyport\, MA
UID:e.1189.2079
SEQUENCE:3
DTSTAMP:20260419T224750Z
URL:https://business.newburyportchamber.org/events/details/yankee-homecoming-10-mile-5k-road-race-08-02-2011-2079
END:VEVENT

END:VCALENDAR
