BEGIN:VCALENDAR
VERSION:2.0
PRODID:-//ChamberMaster//Event Calendar 2.0//EN
METHOD:PUBLISH
X-PUBLISHED-TTL:P3D
REFRESH-INTERVAL:P3D
CALSCALE:GREGORIAN
BEGIN:VEVENT
DTSTART:20111129T163000Z
DTEND:20111129T183000Z
X-MICROSOFT-CDO-ALLDAYEVENT:FALSE
SUMMARY:Women's Leadership Luncheon
DESCRIPTION:Special Women's Leadership Luncheon   Living Our Legacy\n\n	 \n\n	Be inspired! Join us for this special luncheon at Ristorante Molise to network and share in the story of our guest speaker Dr. Russette M. Lyons.\n\n	\n\n	Dr. Russette M. Lyons is the Global Head of Education\, Novartis Institutes for BioMedical Research. Dr. Lyons will discuss her career path\, strategy\, factors that influenced her career\, obstacles encountered along the way\, and lessons learned on her professional journey. \n\n	\n\n	Be inspired by her success story and learn from her experience as you consider your own life and career path. \n\n	\n\n	Don't miss this networking event! This is the perfect opportunity for you to meet or reconnect with other professionals. Share your story\, successes\, challenges and vision while enjoying a gourmet lunch.\n\n	\n\n	Owned by two female entrepreneurs who emigrated from Molise\, Italy as teenagers\, Ristorante Molise was specially selected for this inspirational event. We hope you can join us! \n\n	\n\n	*Limited Seating\n\n	Special thanks to our Sponsor Charlene K. Dolan\, CFP  AIF  of Dolan Financial Services
X-ALT-DESC;FMTTYPE=text/html:<p>\n	<span style="font-size: 14px"><span style="font-family: arial"><strong><span style="color: firebrick"><strong><span lang="EN" style="font-family: 'arial'\,'sans-serif'\; color: #c00000\; mso-ansi-language: en">Special Women&rsquo\;s Leadership Luncheon &ndash\; Living Our Legacy</span></strong></span></strong></span></span><br />\n	&nbsp\;</p>\n<p>\n	<span style="font-family: arial"><span style="font-size: 16px"><span style="color: firebrick"><span lang="EN" style="line-height: 115%\; font-family: 'arial'\,'sans-serif'\; color: #222222\; font-size: 9pt\; mso-ansi-language: en"><span style="font-family: arial"><span style="font-size: 16px"><span style="color: firebrick"><span style="font-size: 9pt"><span style="color: #222222"><span style="font-family: arial\,sans-serif">Be inspired! Join us for this special luncheon at Ristorante Molise to network and share in the story of our guest speaker </span></span></span></span><a href="http://www.cambridgechamber.org/chamber/instructorbio.html?eid=314"><strong><span style="font-size: 9pt"><span style="color: mediumblue"><span style="font-family: arial\,sans-serif">Dr. Russette M. Lyons</span></span></span></strong></a></span><a href="http://www.cambridgechamber.org/chamber/instructorbio.html?eid=314"><strong><span style="font-size: 9pt"><span style="color: #222222"><span style="font-family: arial\,sans-serif">.</span></span></span></strong></a></span></span></span></span></span><br />\n	<br />\n	<span style="font-family: arial"><span style="font-size: 16px"><span style="color: firebrick"><span lang="EN" style="line-height: 115%\; font-family: 'arial'\,'sans-serif'\; color: #222222\; font-size: 9pt\; mso-ansi-language: en">Dr. Russette M. Lyons is the Global Head of Education\, Novartis Institutes for BioMedical Research. Dr. Lyons will discuss her career path\, strategy\, factors that influenced her career\, obstacles encountered along the way\, and lessons learned on her professional journey. </span><br />\n	<br />\n	<span lang="EN" style="line-height: 115%\; font-family: 'arial'\,'sans-serif'\; color: #222222\; font-size: 9pt\; mso-ansi-language: en"><span style="font-family: 'arial'\,'sans-serif'">Be inspired by her success story and learn from her experience as you consider your own life and career path. </span><br />\n	<br />\n	<span style="font-family: 'arial'\,'sans-serif'">Don&rsquo\;t miss this networking event! This is the perfect opportunity for you to meet or reconnect with other professionals. Share your story\, successes\, challenges and vision while enjoying a gourmet lunch.</span><br />\n	<br />\n	<span style="font-family: 'arial'\,'sans-serif'">Owned by two female entrepreneurs who emigrated from Molise\, Italy as teenagers\, <strong><a href="http://www.ristorantemolise.com/"><span style="color: brown">Ristorante Molise</span></a> </strong>was specially selected for this inspirational event. We hope you can join us! </span></span></span><br />\n	<br />\n	<strong><span style="color: firebrick"><em><b><span lang="EN" style="line-height: 115%\; font-family: 'arial'\,'sans-serif'\; color: red\; font-size: 9pt\; mso-ansi-language: en">*Limited Seating</span></b></em><br />\n	<strong><span lang="EN" style="line-height: 115%\; font-family: 'arial'\,'sans-serif'\; color: darkgreen\; font-size: 9pt\; mso-ansi-language: en">Special thanks to our Sponsor Charlene K. Dolan\, CFP<sup>&reg\;</sup> AIF<sup>&reg\;</sup> of </span></strong><strong><u><span lang="EN" style="line-height: 115%\; font-family: 'arial'\,'sans-serif'\; color: black\; font-size: 9pt\; mso-ansi-language: en"><a href="http://www.dolanfinancialservices.com/Home.aspx?"><span style="color: darkgreen">Dolan Financial Services</span></a></span></u></strong></span></strong></span></span></p>\n<p class="MsoNormal">\n	&nbsp\;</p>\n<br />\n<br />\n<br />\n
LOCATION:Ristorante Molise One Market Square Amesbury\, MA Just 2 exits North from Newburyport - less than 10 minutes! Exit 58B - Rte 110 West
UID:e.1189.2369
SEQUENCE:3
DTSTAMP:20260419T173831Z
URL:https://business.newburyportchamber.org/events/details/women-s-leadership-luncheon-11-29-2011-2369
END:VEVENT

END:VCALENDAR
