BEGIN:VCALENDAR
VERSION:2.0
PRODID:-//ChamberMaster//Event Calendar 2.0//EN
METHOD:PUBLISH
X-PUBLISHED-TTL:P3D
REFRESH-INTERVAL:P3D
CALSCALE:GREGORIAN
BEGIN:VEVENT
DTSTART:20090316T040000Z
DTEND:20090316T040000Z
X-MICROSOFT-CDO-ALLDAYEVENT:FALSE
SUMMARY:Women's Leadership Connection Luncheon - March 2009
DESCRIPTION:Do You Now Earn a Smart Paycheck?\nEvelyn Murphy\, President of The WAGE Project and former Lt. Governor of Massachusetts will talk about how you determine whether your current paycheck is a much as it could and should be\; and provide guidance for engaging in salary negotiations. Come listen to a practical\, nuts-and-bolts talk about a pressing and timely matter for all working women: in this tough economy\, how to bring home a Smart Paycheck.The WAGE Project\, Inc is an organization established for one purpose: to end discrimination against women in the American workplace in the near future.  To do that\, WAGE inspires and helps working women to take the steps needed so that every woman is paid what she’s worth.
X-ALT-DESC;FMTTYPE=text/html:<FONT face=georgia color=#0f0f0f size=2><P class=MsoNormal><FONT face=Georgia size=2><SPAN style="FONT-SIZE: 11pt\; FONT-FAMILY: Georgia">Do You<I> Now </I>Earn a Smart Paycheck?<BR>Evelyn Murphy\, President of The WAGE Project and former Lt. Governor of Massachusetts will talk about how you determine whether your current paycheck is a much as it could and should be\; and provide guidance for engaging in salary negotiations. Come listen to a practical\, nuts-and-bolts talk about a pressing and timely matter for all working women: in this tough economy\, how to bring home a Smart Paycheck.</SPAN></FONT></P><P class=MsoNormal><FONT face=Georgia size=2><SPAN style="FONT-SIZE: 11pt\; FONT-FAMILY: Georgia">The WAGE Project\, Inc is an&nbsp\;organization established for one purpose: to end discrimination against women in the American workplace in the near future.&nbsp\; To do that\, WAGE inspires and helps working women to take the steps needed so that every woman is paid what she’s worth.</SPAN></FONT></FONT><FONT face=georgia></P></FONT><P>&nbsp\;</P>
LOCATION:Phoenix Room
UID:e.1189.1180
SEQUENCE:3
DTSTAMP:20260422T043130Z
URL:https://business.newburyportchamber.org/events/details/women-s-leadership-connection-luncheon-march-2009-03-16-2009-1180
END:VEVENT

END:VCALENDAR
