BEGIN:VCALENDAR
VERSION:2.0
PRODID:-//ChamberMaster//Event Calendar 2.0//EN
METHOD:PUBLISH
X-PUBLISHED-TTL:P3D
REFRESH-INTERVAL:P3D
CALSCALE:GREGORIAN
BEGIN:VEVENT
DTSTART:20111021T220000Z
DTEND:20111022T010000Z
X-MICROSOFT-CDO-ALLDAYEVENT:FALSE
SUMMARY:Witches Night Out 2011
DESCRIPTION:Calling all goblins\, witches and warlocks for a "spooktacular" event in downtown Newburyport\, the Tannery and Horton's Yard.\n\n\n\nMark your calendars for Witches Night Out on Friday\, October 21 from 6:00 to 9:00 PM.\n\n\n\nEnjoy merchant and restaurant hospitality while shopping and meeting your favorite witch or warlock. Many participating businesses will be decorating their stores in the best of Halloween finery\, serving light refreshments\, having a costume contest and offering a reverse trick or treat to benefit Pennies for Poverty: 2 Cents for Change.\n\n\n\nWitches Night Out attendees are encouraged to dress as a witch or warlock to add to the festivity of the evening.  Don't miss the Costume Contest at 8:30 PM at the Black Dog. Two categories - Best Witch Costume and Best Costume Overall - winners will be awarded $50 Newburyport Gift Certificates!\n\n\n\nThere will also be a second costume contest at the Starboard Galley Restaurant at 8:45 PM. Come down and win a prize as well.
X-ALT-DESC;FMTTYPE=text/html:Calling all goblins\, witches and warlocks for a &quot\;spooktacular&quot\; event in downtown Newburyport\, the Tannery and Horton&rsquo\;s Yard.<br />\n<br />\n<font color="#000000">Mark your calendars for <strong>Witches Night Out</strong> on Friday\, October 21 from 6:00&nbsp\;to 9:00 PM.</font><br />\n<br />\n<font color="#000000">Enjoy merchant and restaurant hospitality while shopping and meeting your favorite witch or warlock. Many participating businesses will be decorating their stores in the best of Halloween finery\, serving light refreshments\, having a costume contest and offering a reverse trick or treat to benefit </font><a datafld="0:0" href="http://2cents4change.povertyprogram.com/" style="color: blue\; text-decoration: underline" target="_self" title=""><font color="#000000">Pennies for Poverty: 2 Cents for Change</font></a><font color="#000000">.</font><br />\n<br />\n<font color="#000000">Witches Night Out attendees are encouraged to dress as a witch or warlock to add to the festivity of the evening.&nbsp\; Don&#39\;t miss the <strong>Costume Contest</strong>&nbsp\;at 8:30 PM at the Black Dog. <font color="#000000">Two categories - Best Witch Costume and Best Costume Overall - winners will be awarded $50 Newburyport Gift Certificates!</font><br />\n<br />\n<strong>There will also be a second costume contest at the Starboard Galley Restaurant at 8:45 PM. Come down and win a prize as well.&nbsp\;&nbsp\;<br />\n<span _fck_bookmark="1" style="display: none">&nbsp\;</span>&nbsp\;</strong>&nbsp\;<span _fck_bookmark="1" style="display: none">&nbsp\;</span></font>
LOCATION:Throughout downtown Newburyport\, the Tannery and Horton's Yard.
UID:e.1189.1963
SEQUENCE:3
DTSTAMP:20260419T210344Z
URL:https://business.newburyportchamber.org/events/details/witches-night-out-2011-10-21-2011-1963
END:VEVENT

END:VCALENDAR
