BEGIN:VCALENDAR
VERSION:2.0
PRODID:-//ChamberMaster//Event Calendar 2.0//EN
METHOD:PUBLISH
X-PUBLISHED-TTL:P3D
REFRESH-INTERVAL:P3D
CALSCALE:GREGORIAN
BEGIN:VEVENT
DTSTART:20120225T150000Z
DTEND:20120225T170000Z
X-MICROSOFT-CDO-ALLDAYEVENT:FALSE
SUMMARY:Winter Woods\, Snowshoeing (or Hike)!
DESCRIPTION:Grab your snowshoes and poles and explore the winter woods! Discover Camp Denison Conservation Area's dynamic landscape under a quiet blanket of snow on a guided excursion. This property offers forty-four acres of conservation land and a variety of features for visitors to enjoy including: views of Baldpate Pond\, a beaver hut\, and access to a well-marked trail system. We plan to cover about a mile of trail (1+ hour) and will hike in the event that there is no snow! Afterwards\, warm up in front of the large fireplace in the Lodge's 'Smokies' Den' while enjoying post-walk treats courtesy of our guides and volunteers from Camp Denison Recreation Area. What better way to spend a wintery Saturday morning? Don't have snowshoes\, but want to come? Let me know\, we may have a pair or two for loan and can suggest rental opportunities as well!
X-ALT-DESC;FMTTYPE=text/html:Grab your snowshoes and poles and explore the winter woods! Discover Camp Denison Conservation Area&rsquo\;s dynamic landscape under a quiet blanket of snow on a guided excursion. This property offers forty-four acres of conservation land and a variety of features for visitors to enjoy including: views of Baldpate Pond\, a beaver hut\, and access to a well-marked trail system. We plan to cover about a mile of trail (1+ hour) and will hike in the event that there is no snow! Afterwards\, warm up in front of the large fireplace in the Lodge&#39\;s &#39\;Smokies&#39\; Den&#39\; while enjoying post-walk treats courtesy of our guides and volunteers from <a href="http://www.campdenison.com/">Camp Denison Recreation Area</a>. What better way to spend a wintery Saturday morning? Don&rsquo\;t have snowshoes\, but want to come? Let me know\, we may have a pair or two for loan and can suggest rental opportunities as well! 
LOCATION:Camp Denison Conservation Area 84 Nelson Street Georgetown\, MA 01833
UID:e.1189.2891
SEQUENCE:3
DTSTAMP:20260419T141244Z
URL:https://business.newburyportchamber.org/events/details/winter-woods-snowshoeing-or-hike-02-25-2012-2891
END:VEVENT

END:VCALENDAR
