BEGIN:VCALENDAR
VERSION:2.0
PRODID:-//ChamberMaster//Event Calendar 2.0//EN
METHOD:PUBLISH
X-PUBLISHED-TTL:P3D
REFRESH-INTERVAL:P3D
CALSCALE:GREGORIAN
BEGIN:VEVENT
DTSTART;VALUE=DATE:20111111
DTEND;VALUE=DATE:20111112
TRANSP:TRANSPARENT
X-MICROSOFT-CDO-ALLDAYEVENT:TRUE
SUMMARY:Winter Concert
DESCRIPTION:Ensemble Epomeo (string trio)
X-ALT-DESC;FMTTYPE=text/html:<p class="schedule-title">\n	Ensemble Epomeo (string trio)</p>\n
LOCATION:The Maritime Museum 25 Water Street\, Newburyport
UID:e.1189.2075
SEQUENCE:3
DTSTAMP:20260419T191529Z
URL:https://business.newburyportchamber.org/events/details/winter-concert-11-11-2011-2075
END:VEVENT

END:VCALENDAR
