BEGIN:VCALENDAR
VERSION:2.0
PRODID:-//ChamberMaster//Event Calendar 2.0//EN
METHOD:PUBLISH
X-PUBLISHED-TTL:P3D
REFRESH-INTERVAL:P3D
CALSCALE:GREGORIAN
BEGIN:VEVENT
DTSTART;VALUE=DATE:20120120
DTEND;VALUE=DATE:20120123
TRANSP:TRANSPARENT
X-MICROSOFT-CDO-ALLDAYEVENT:TRUE
SUMMARY:Winter Bliss: A Delicious Weekend
DESCRIPTION:Featuring:\n\n	Chef Eric Mercovich and Dr. Amy Mercovich\n\n	\n		  Your Sensational Back Workshop\n	\n		  Soul Food for Slimming Your Body\n	\n		  Hot and Spicy Vegetarian Cooking\n	\n		  Sound Healing Workshops\n	\n		  Yoga\, Meditation and Chanting\n\n\n	\n		 \n	\n		\n			See website for more detail and full Schedule of Events
X-ALT-DESC;FMTTYPE=text/html:<div style="text-align: left\; line-height: 18px\; margin: 0px">\n	<font color="#333333" face="Arial" size="3" style="font: 12px arial\; color: #333333"><b>Featuring:</b></font></div>\n<div style="text-align: left\; line-height: 18px\; margin: 0px">\n	<font color="#333333" face="Arial" size="3" style="font: 12px arial\; color: #333333"><b>Chef Eric Mercovich and Dr. Amy Mercovich</b></font></div>\n<div style="text-align: center\; line-height: 18px\; margin: 0px">\n	<div style="text-align: left">\n		<span class="Apple-style-span" style="line-height: normal\; color: rgb(51\,51\,51)">&#65533\; Your Sensational Back Workshop</span></div>\n	<div style="text-align: left">\n		<font color="#333333" face="Arial" size="3" style="font: 12px arial\; color: #333333">&#65533\; Soul Food for Slimming Your Body</font></div>\n	<div style="text-align: left">\n		<font color="#333333" face="Arial" size="3" style="font: 12px arial\; color: #333333">&#65533\; Hot and Spicy Vegetarian Cooking</font></div>\n	<div style="text-align: left">\n		<font color="#333333" face="Arial" size="3" style="font: 12px arial\; color: #333333">&#65533\; Sound Healing Workshops</font></div>\n	<div style="text-align: left">\n		<font color="#333333" face="Arial" size="3" style="font: 12px arial\; color: #333333">&#65533\; Yoga\, Meditation and Chanting</font></div>\n</div>\n<div style="text-align: center\; line-height: 18px\; margin: 0px">\n	<div style="text-align: left">\n		&nbsp\;</div>\n	<div style="text-align: left">\n		<div style="margin: 0px\; font-family: 'century gothic'\; color: rgb(0\,0\,0)\; font-size: medium">\n			<font color="#333333" face="Arial" size="3" style="font: 12px arial\; color: #333333"><font face="Arial" size="3" style="font: 12px arial"><b>See website for more detail&nbsp\;and full Schedule of Events</b></font></font></div>\n	</div>\n</div>\n
LOCATION:Lotus Healing Arts Foundation 24-R Pleasant Street\, Newburyport
UID:e.1189.2602
SEQUENCE:3
DTSTAMP:20260419T140829Z
URL:https://business.newburyportchamber.org/events/details/winter-bliss-a-delicious-weekend-01-20-2012-2602
END:VEVENT

END:VCALENDAR
