BEGIN:VCALENDAR
VERSION:2.0
PRODID:-//ChamberMaster//Event Calendar 2.0//EN
METHOD:PUBLISH
X-PUBLISHED-TTL:P3D
REFRESH-INTERVAL:P3D
CALSCALE:GREGORIAN
BEGIN:VEVENT
DTSTART:20120120T220000Z
DTEND:20120121T000000Z
X-MICROSOFT-CDO-ALLDAYEVENT:FALSE
SUMMARY:Wine & Cheese Artist Reception
DESCRIPTION:"Seasonal Views ~ Fall & Winter"\n\nby Linda Lea Bertrand\n\n\n\nArtist reception hosted by Chase & Lunt Insurance in the NAA's Wing Gallery\; serving cheese & wine
X-ALT-DESC;FMTTYPE=text/html:&quot\;Seasonal Views ~ Fall &amp\; Winter&quot\;<br />\nby Linda Lea Bertrand<br />\n<br />\nArtist reception hosted by Chase &amp\; Lunt Insurance in the NAA&#39\;s Wing Gallery\; serving cheese &amp\; wine
LOCATION:Chase & Lunt Insurance 47 Sate Street Newburyport
UID:e.1189.2539
SEQUENCE:3
DTSTAMP:20260419T140822Z
URL:https://business.newburyportchamber.org/events/details/wine-cheese-artist-reception-01-20-2012-2539
END:VEVENT

END:VCALENDAR
