BEGIN:VCALENDAR
VERSION:2.0
PRODID:-//ChamberMaster//Event Calendar 2.0//EN
METHOD:PUBLISH
X-PUBLISHED-TTL:P3D
REFRESH-INTERVAL:P3D
CALSCALE:GREGORIAN
BEGIN:VEVENT
DTSTART:20120108T160000Z
DTEND:20120108T200000Z
X-MICROSOFT-CDO-ALLDAYEVENT:FALSE
SUMMARY:Willowdale Estate's 5th Annual Bridal Show
DESCRIPTION:"I Thee Wed"\n\nWillowdale Estate's 5th Annual Bridal Show\n\n \n\nOnce a year\, we open our doors at Willowdale Estate to showcase our talented\n\nwedding experts. Come join us for an afternoon of food\, music and information\n\nthat will help you get started on planning an unforgettable wedding day!\n\n \n\n~ Experience an event at our historic property\n\n \n\n~ Taste offering from our talented chefs\n\n \n\n~ Meet with Willowdale Estate's Preferred Vendors\n\n \n\n~ Interested in booking a wedding here? Talk to our Sales Team.\n\n \n\nAll brides who pre-register will receive our signature gift bag\, and a chance\n\nto win great prizes!\n\n \n\nThis is a free event for you and your guests so register now and avoid the\n\nlines!
X-ALT-DESC;FMTTYPE=text/html:<strong>&ldquo\;I Thee Wed&rdquo\;</strong><br />\n<strong>Willowdale Estate&rsquo\;s 5th Annual Bridal Show</strong><br />\n&nbsp\;<br />\nOnce a year\, we open our doors at Willowdale Estate to showcase our talented<br />\nwedding experts. Come join us for an afternoon of food\, music and information<br />\nthat will help you get started on planning an unforgettable wedding day!<br />\n&nbsp\;<br />\n~ Experience an event at our historic property<br />\n&nbsp\;<br />\n~ Taste offering from our talented chefs<br />\n&nbsp\;<br />\n~ Meet with Willowdale Estate&rsquo\;s Preferred Vendors<br />\n&nbsp\;<br />\n~ Interested in booking a wedding here? Talk to our Sales Team.<br />\n&nbsp\;<br />\nAll brides who pre-register will receive our signature gift bag\, and a chance<br />\nto win great prizes!<br />\n&nbsp\;<br />\nThis is a free event for you and your guests so register now and avoid the<br />\nlines!&nbsp\; 
LOCATION:Willowdale Estate 24 Asbury Street\, Topsfield\, MA 01983
UID:e.1189.2479
SEQUENCE:3
DTSTAMP:20260419T141447Z
URL:https://business.newburyportchamber.org/events/details/willowdale-estate-s-5th-annual-bridal-show-01-08-2012-2479
END:VEVENT

END:VCALENDAR
