BEGIN:VCALENDAR
VERSION:2.0
PRODID:-//ChamberMaster//Event Calendar 2.0//EN
METHOD:PUBLISH
X-PUBLISHED-TTL:P3D
REFRESH-INTERVAL:P3D
CALSCALE:GREGORIAN
BEGIN:VEVENT
DTSTART:20120226T150000Z
DTEND:20120226T180000Z
X-MICROSOFT-CDO-ALLDAYEVENT:FALSE
SUMMARY:Willowdale Estate Open House
DESCRIPTION:Come and imagine what a Mansion Wedding can be!  Bring your family and your wedding party to enjoy a delightful evening at elegant Willowdale Estate\, surrounded by the picture perfect Bradley Palmer Park.\n\n \n\nPre-register now to receive a favor bag and special vendor discounts!\n\n \n\nThis is a free event.  Please email us at Info@WillowdaleEstate.com to register.
X-ALT-DESC;FMTTYPE=text/html:Come and imagine what a Mansion Wedding can be!&nbsp\; Bring your family and your wedding party to enjoy a delightful evening at elegant Willowdale Estate\, surrounded by the picture perfect Bradley Palmer Park.<br />\n&nbsp\;<br />\nPre-register now to receive a favor bag and special vendor discounts!<br />\n&nbsp\;<br />\nThis is a free even<span style="color: #1f497d">t.</span>&nbsp\; Please email us at <a href="mailto:Info@WillowdaleEstate.com">Info@WillowdaleEstate.com</a>&nbsp\;to register.<br />\n
LOCATION:Willowdale Estate 24 Asbury Street Topsfield\, MA 01983
UID:e.1189.2720
SEQUENCE:3
DTSTAMP:20260419T124311Z
URL:https://business.newburyportchamber.org/events/details/willowdale-estate-open-house-02-26-2012-2720
END:VEVENT

END:VCALENDAR
