BEGIN:VCALENDAR
VERSION:2.0
PRODID:-//ChamberMaster//Event Calendar 2.0//EN
METHOD:PUBLISH
X-PUBLISHED-TTL:P3D
REFRESH-INTERVAL:P3D
CALSCALE:GREGORIAN
BEGIN:VEVENT
DTSTART:20110825T000000Z
DTEND:20110825T020000Z
X-MICROSOFT-CDO-ALLDAYEVENT:FALSE
SUMMARY:Waterfront Movie Series
DESCRIPTION:What could be better than watching a movie OUTSIDE on Waterfront Park on a warm summer night? Grab a blanket and your family & friends and join us!\n\n\n\nMovies will be shown on a 40-foot inflatable screen with an HD Blue Ray Projector and BOSE professional sound system. You don't want to miss this!\n\n\n\n\nMOVIE SCHEDULE 2011\n\nMovies will start at dusk\, approximately 8:00 PM.\n\n\n\nAUGUST 10\n\nGrease Sing-A-Long\n\nRydell High's most famous graduating class is going back to school. A newly restored print brings the highest-grossing musical of all time\, GREASE (1978)\, to the big screen as a sing-along. Join Danny and Sandy with your own crew of T-Birds and Pink Ladies for a carnival ride back to those amazing summer nights!\n\n\n\nRated: PG\n\nRun time: 110 minutes\n\nPreview\n\n\n\n\n\nAUGUST 17\n\nE.T.  -  The Extra Terrestrial\n\nFilled with unparalleled magic and imagination\, E.T. follows the moving story of a lost little alien who befriends 10-year-old\, Elliot. Experience all the mystery and fun of their unforgettable adventure in the beloved movie that captivated audiences around the world.\n\n\n\nRated: PG\n\nRun time: 115 minutes\n\nPreview\n\n\n\n\n\nAUGUST 24\n\nFinding Nemo\n\nLife along the Great Barrier Reefis full of dangers when you are a tiny clown fish. Nemo is unexpectedly taken to a dentist's office aquarium\, It's up to Marlin his worrisome father\, and Dory a friendly but forgetful tang fish\, to make the epic journey to bring Nemo home.  \n\n\n\nRated: G\n\nRun time: 100 minutes\n\nPreview\n\n\n\n\nHelp keep Newburyport and Waterfront Park beautiful!\n\nPlease do not leave behind any trash\, cigarette butts\, food\, etc.  Put all trash and recycling in proper barrels.  What you carry in\, please carry out!  Have fun and be green.\n\n\n\nNewburyport Waterfront Trust requests that no plastic tarps be placed on the lawn\, as it is harmful to the growth of the grass.  Thank you!
X-ALT-DESC;FMTTYPE=text/html:<span style="font-size: 12px"><span style="font-family: tahoma">What could be better than watching a movie OUTSIDE on Waterfront Park on a warm summer night? Grab a blanket and your family &amp\; friends and join us!<br />\n<br />\nMovies will be shown on a 40-foot inflatable screen with an HD Blue Ray Projector and BOSE professional sound system. You don&#39\;t want to miss this!</span></span><br />\n<hr />\n<br />\n<span style="font-size: 12px"><span style="font-family: tahoma"><span style="color: #000000"><strong>MOVIE SCHEDULE 2011</strong><br />\nMovies will start at dusk\, approximately 8:00 PM.<br />\n<br />\n<strong>AUGUST 10<br />\n<strong>Grease Sing-A-Long</strong></strong><br />\nRydell High&#39\;s most famous graduating class is going back to school. A newly restored print brings the highest-grossing musical of all time\, GREASE (1978)\, to the big screen as a sing-along. Join Danny and Sandy with your own crew of T-Birds and Pink Ladies for a carnival ride back to those amazing summer nights!<br />\n<br />\n<em>Rated: PG<br />\nRun time: 110 minutes<br />\n<a href="http://www.imdb.com/video/imdb/vi1347749657/">Preview</a></em><br />\n<br />\n<br />\n<strong><strong>AUGUST 17<br />\n<strong>E.T.&nbsp\; -&nbsp\; The Extra Terrestrial</strong></strong></strong><br />\nFilled with unparalleled magic and imagination\, E.T. follows the moving story of a lost little alien who befriends 10-year-old\, Elliot. Experience all the mystery and fun of their unforgettable adventure in the beloved movie that captivated audiences around the world.<br />\n<br />\n<em><em>Rated: PG<br />\nRun time: 115 minutes<br />\n<a href="http://www.imdb.com/video/screenplay/vi2426667289/">Preview</a></em></em><br />\n<br />\n<br />\n<strong><strong><strong>AUGUST 24<br />\n<strong>Finding Nemo</strong></strong></strong></strong><br />\nLife along the Great Barrier Reefis full of dangers when you are a tiny clown fish. Nemo is unexpectedly taken to a dentist&#39\;s office aquarium\, It&#39\;s up to Marlin his worrisome father\, and Dory a friendly but forgetful tang fish\, to make the epic journey to bring Nemo home.&nbsp\;&nbsp\;<br />\n<br />\n<em><em>Rated: G</em><br style="font-size: small" />\n<em>Run time: 100 minutes<br />\n<a href="http://www.imdb.com/video/screenplay/vi67962649/">Preview</a></em></em></span></span></span><br />\n<hr />\n<br />\n<span style="font-size: 12px"><span style="font-family: tahoma"><span style="color: #000000"><strong>Help keep Newburyport and Waterfront Park beautiful!</strong><br />\nPlease do not leave behind any trash\, cigarette butts\, food\, etc.&nbsp\; Put all trash and recycling in proper barrels.&nbsp\; <span style="text-decoration: underline">What you carry in\, please carry out!&nbsp\; </span>Have fun and<span style="color: #006600"><strong> be green</strong></span>.<br />\n<br />\nNewburyport Waterfront Trust requests that no plastic tarps be placed on the lawn\, as it is harmful to the growth of the grass.&nbsp\; Thank you!</span></span></span><br />\n<br />\n<br />\n
LOCATION:Waterfront Park Downtown Newburyport
UID:e.1189.1832
SEQUENCE:3
DTSTAMP:20260419T224346Z
URL:https://business.newburyportchamber.org/events/details/waterfront-movie-series-08-24-2011-1832
END:VEVENT

END:VCALENDAR
