BEGIN:VCALENDAR
VERSION:2.0
PRODID:-//ChamberMaster//Event Calendar 2.0//EN
METHOD:PUBLISH
X-PUBLISHED-TTL:P3D
REFRESH-INTERVAL:P3D
CALSCALE:GREGORIAN
BEGIN:VEVENT
DTSTART:20120107T200000Z
DTEND:20120107T220000Z
X-MICROSOFT-CDO-ALLDAYEVENT:FALSE
SUMMARY:Warren Miller's "Like There's No Tomorrow" at Firehouse Center for the Arts
DESCRIPTION:Hosted by Jonny Moseley and shot on location in Colorado\, Utah\, California\, New Zealand\, Chile\, Alaska and British Columbia\, Warren Miller's latest ski film ... Like There's No Tomorrow is your annual reminder that Winter is on its way and\, with it\, months of an adrenaline-fueled dance with gravity. Welcome it with everything you've got\, because there's always a tomorrow\, but only so many dawn with fresh snow. So what are you waiting for?\n\n\n\nThe Firehouse has been presenting Warren Miller Films for the past eight years but each showing\, like each downhill run on your favorite slope\, is a whole new experience. This is the film only\, no prizes or giveaways are included. A concession stand will be available.
X-ALT-DESC;FMTTYPE=text/html:Hosted by Jonny Moseley and shot on location in Colorado\, Utah\, California\, New Zealand\, Chile\, Alaska and British Columbia\, Warren Miller&#39\;s latest ski film ... Like There&rsquo\;s No Tomorrow is your annual reminder that Winter is on its way and\, with it\, months of an adrenaline-fueled dance with gravity. Welcome it with everything you&#39\;ve got\, because there&#39\;s always a tomorrow\, but only so many dawn with fresh snow. So what are you waiting for?<br />\n<br />\nThe Firehouse has been presenting Warren Miller Films for the past eight years but each showing\, like each downhill run on your favorite slope\, is a whole new experience. This is the film only\, no prizes or giveaways are included. A concession stand will be available.
LOCATION:Firehouse Center for the Arts Market Square Newburyport MA 01950
UID:e.1189.2397
SEQUENCE:3
DTSTAMP:20260419T141625Z
URL:https://business.newburyportchamber.org/events/details/warren-miller-s-like-there-s-no-tomorrow-at-firehouse-center-for-the-arts-01-07-2012-2397
END:VEVENT

END:VCALENDAR
