BEGIN:VCALENDAR
VERSION:2.0
PRODID:-//ChamberMaster//Event Calendar 2.0//EN
METHOD:PUBLISH
X-PUBLISHED-TTL:P3D
REFRESH-INTERVAL:P3D
CALSCALE:GREGORIAN
BEGIN:VEVENT
DTSTART:20110820T170000Z
DTEND:20110820T210000Z
X-MICROSOFT-CDO-ALLDAYEVENT:FALSE
SUMMARY:Walsingham Gallery's Artist in Session
DESCRIPTION:The Walsingham Gallery's Artist in Session Series 2011 presents a watercolor demonstration by artist William E. Duke\, Saturday August 20th\, 1-5pm. Living and painting on the North Shore\, Bill derives both his subject matter and inspiration from the environmental beauty of the region\, and in particular\, the marshlands. \n\n	Scheduled May-October\, the Artist in Session series provides the opportunity to catch a rare glimpse into the creative process as the artist demonstrates their personal techniques in our intimate gallery setting.
X-ALT-DESC;FMTTYPE=text/html:<p>\n	<span lang="EN">The Walsingham Gallery&#39\;s Artist in Session Series 2011 presents a watercolor demonstration by artist William E. Duke\, Saturday August 20th\, 1-5pm. Living and painting on the North Shore\, Bill derives both his subject matter and inspiration from the environmental beauty of the region\, and in particular\, the marshlands. </span></p>\n<p>\n	<span lang="EN">Scheduled May-October\, the Artist in Session series provides the opportunity to catch a rare glimpse into the creative process as the artist demonstrates their personal techniques in our intimate gallery setting.</span></p>\n
LOCATION:
UID:e.1189.2121
SEQUENCE:3
DTSTAMP:20260419T224528Z
URL:https://business.newburyportchamber.org/events/details/walsingham-gallery-s-artist-in-session-08-20-2011-2121
END:VEVENT

END:VCALENDAR
