BEGIN:VCALENDAR
VERSION:2.0
PRODID:-//ChamberMaster//Event Calendar 2.0//EN
METHOD:PUBLISH
X-PUBLISHED-TTL:P3D
REFRESH-INTERVAL:P3D
CALSCALE:GREGORIAN
BEGIN:VEVENT
DTSTART:20110828T180000Z
DTEND:20110828T200000Z
X-MICROSOFT-CDO-ALLDAYEVENT:FALSE
SUMMARY:Walker Creek Band
DESCRIPTION:see website  maudslayartscenter.org\n\n\n\n\n	Due to Hurricane Irene\, which forecasters predict will hit our area this weekend\, the Saturday evening performance of Paul Broadnax Quintet and the Sunday afternoon performance of Walker Creek Band has been cancelled.\n\n	\n\n	In case of a cancellation\, all charged tickets sales will be refunded. Maudslay Arts Center regrets any inconvenience to our patrons.
X-ALT-DESC;FMTTYPE=text/html:see website&nbsp\; maudslayartscenter.org<br />\n<br />\n<div class="gmail_quote">\n	<span style="font-size: 14px"><em><span style="color: #ff0000">Due to Hurricane Irene\, which&nbsp\;forecasters&nbsp\;predict&nbsp\;will&nbsp\;hit our area this weekend\,&nbsp\;the Saturday evening performance of Paul Broadnax Quintet&nbsp\;and the Sunday afternoon performance of Walker Creek Band has been cancelled.</span></em></span></div>\n<div class="gmail_quote">\n	<br />\n	<span style="font-size: 14px"><em><span style="color: #ff0000">In case of a cancellation\, all charged tickets sales will be refunded. Maudslay Arts Center regrets any inconvenience to our patrons.</span></em></span></div>\n<br />\n
LOCATION:Maudslay Arts Center 95 Curzon Mill Rd.\, Maudslay State Park Newburyport
UID:e.1189.2014
SEQUENCE:3
DTSTAMP:20260419T223354Z
URL:https://business.newburyportchamber.org/events/details/walker-creek-band-08-28-2011-2014
END:VEVENT

END:VCALENDAR
