BEGIN:VCALENDAR
VERSION:2.0
PRODID:-//ChamberMaster//Event Calendar 2.0//EN
METHOD:PUBLISH
X-PUBLISHED-TTL:P3D
REFRESH-INTERVAL:P3D
CALSCALE:GREGORIAN
BEGIN:VEVENT
DTSTART:20110813T220000Z
DTEND:20110814T030000Z
X-MICROSOFT-CDO-ALLDAYEVENT:FALSE
SUMMARY:Walk Back in Time
DESCRIPTION:Music for Music\n\n	Fundraiser Dance\n\n	to Benefit\n\n	Newburyport Middle School Music Programs\n\n	 \n\n	Featuring Stellwagen\, The Shadows\, & The Reunion Band\n\n	 \n\n	Tickets available at\n\n	Newburyport Middle School \n\n	Denise's Flower Shop\, 35 Pleasant St\, NBPT\n\n	or\n\n	Send a check (payable to "Music for Music") to\n\n	Lynne Walker\, 27 Beacon Ave\, NBPT
X-ALT-DESC;FMTTYPE=text/html:<div align="center">\n	Music for Music</div>\n<div align="center">\n	Fundraiser Dance</div>\n<div align="center">\n	to Benefit</div>\n<div align="center">\n	Newburyport Middle School Music Programs</div>\n<div align="center">\n	&nbsp\;</div>\n<div align="center">\n	Featuring Stellwagen\, The Shadows\, &amp\; The Reunion Band</div>\n<div align="center">\n	&nbsp\;</div>\n<div align="center">\n	Tickets available at</div>\n<div align="center">\n	Newburyport Middle School&nbsp\;</div>\n<div align="center">\n	Denise&#39\;s Flower Shop\, 35 Pleasant St\, NBPT</div>\n<div align="center">\n	or</div>\n<div align="center">\n	Send a check (payable to &quot\;Music for Music&quot\;) to</div>\n<div align="center">\n	Lynne Walker\, 27 Beacon Ave\, NBPT</div>\n
LOCATION:Newburyport Elks Lodge 25 Low St Newburyport
UID:e.1189.1995
SEQUENCE:3
DTSTAMP:20260419T223311Z
URL:https://business.newburyportchamber.org/events/details/walk-back-in-time-08-13-2011-1995
END:VEVENT

END:VCALENDAR
