BEGIN:VCALENDAR
VERSION:2.0
PRODID:-//ChamberMaster//Event Calendar 2.0//EN
METHOD:PUBLISH
X-PUBLISHED-TTL:P3D
REFRESH-INTERVAL:P3D
CALSCALE:GREGORIAN
BEGIN:VEVENT
DTSTART:20111016T151500Z
DTEND:20111016T190000Z
X-MICROSOFT-CDO-ALLDAYEVENT:FALSE
SUMMARY:Walk Against Violence and Dorothy's Run 5K
DESCRIPTION:Join us\, rain or shine\, for the 20th Annual Walk Against Violence and Dorothy's Run 5K\, a USATF certified course\, on Sunday\, October 13th\, at Bresnahan School\, 333 High Street\, Newburyport\, to support Jeanne Geiger Crisis Center.  Registration starts at 11:15 a.m.\n\n\n\nBecome a Sponsor!  Create a Team!  Register online starting August 15th at www.jeannegeigercrisiscenter.org.\n\n\n\nYou can make an impact!
X-ALT-DESC;FMTTYPE=text/html:Join us\, rain or shine\, for the 20th Annual Walk Against Violence and Dorothy&#39\;s Run 5K\, a USATF certified course\, on Sunday\, October 13th\, at Bresnahan School\, 333 High Street\, Newburyport\, to support Jeanne Geiger Crisis Center.&nbsp\; Registration starts at 11:15 a.m.<br />\n<br />\nBecome a Sponsor!&nbsp\; Create a Team!&nbsp\; Register online starting August 15th at www.jeannegeigercrisiscenter.org.<br />\n<br />\nYou can make an impact!
LOCATION:Bresnahan School 333 High Street Newburyport\, MA 01950
UID:e.1189.2090
SEQUENCE:3
DTSTAMP:20260419T191722Z
URL:https://business.newburyportchamber.org/events/details/walk-against-violence-and-dorothy-s-run-5k-10-16-2011-2090
END:VEVENT

END:VCALENDAR
