BEGIN:VCALENDAR
VERSION:2.0
PRODID:-//ChamberMaster//Event Calendar 2.0//EN
METHOD:PUBLISH
X-PUBLISHED-TTL:P3D
REFRESH-INTERVAL:P3D
CALSCALE:GREGORIAN
BEGIN:VEVENT
DTSTART;VALUE=DATE:20120114
DTEND;VALUE=DATE:20120115
TRANSP:TRANSPARENT
X-MICROSOFT-CDO-ALLDAYEVENT:TRUE
SUMMARY:Voices of the Early American Century Recital
DESCRIPTION:American Century Music and Florestan Recital Project will present "Voices of the Early American Century\," a chamber music performance focusing on American composers from the early 20th century. The program features Frederick Converse's Sonata for Violoncello & Piano\; John Alden Carpenter's Gitanjali for Voice and Piano\; and Arthur Foote's Piano Trio No. 2 in Bb Major\, op. 65.\n\n\n\nPerformers include pianist Alison d'Amato\, violinist Gabriela Diaz\, baritone Aaron Engebreth and cellist Rafael Popper-Keizer.\n\n\n\nA pre-concert talk by ACM artistic director Scott Parkman begins at 7 p.m.
X-ALT-DESC;FMTTYPE=text/html:<span style="font-size: 11px"><span style="font-family: tahoma">American Century Music and Florestan Recital Project will present &ldquo\;Voices of the Early American Century\,&rdquo\; a chamber music performance focusing on American composers from the early 20th century. The program features Frederick Converse&rsquo\;s Sonata for Violoncello &amp\; Piano\; John Alden Carpenter&rsquo\;s Gitanjali for Voice and Piano\; and Arthur Foote&rsquo\;s Piano Trio No. 2 in Bb Major\, op. 65.<br />\n<br />\nPerformers include pianist Alison d&#39\;Amato\, violinist Gabriela Diaz\, baritone Aaron Engebreth and cellist Rafael Popper-Keizer.<br />\n<br />\nA pre-concert talk by ACM artistic director Scott Parkman begins at 7 p.m.</span></span>
LOCATION:St. Paul's Church 166 High St. Newburyport.
UID:e.1189.2503
SEQUENCE:3
DTSTAMP:20260419T141739Z
URL:https://business.newburyportchamber.org/events/details/voices-of-the-early-american-century-recital-01-14-2012-2503
END:VEVENT

END:VCALENDAR
