BEGIN:VCALENDAR
VERSION:2.0
PRODID:-//ChamberMaster//Event Calendar 2.0//EN
METHOD:PUBLISH
X-PUBLISHED-TTL:P3D
REFRESH-INTERVAL:P3D
CALSCALE:GREGORIAN
BEGIN:VEVENT
DTSTART:20111027T230000Z
DTEND:20111028T010000Z
X-MICROSOFT-CDO-ALLDAYEVENT:FALSE
SUMMARY:Voice Over Tips and Techniques with Tom Gustafson
DESCRIPTION:Local Voice Over Artist and PortMedia Member Tom\n\nGustafson will talk about adding professional sounding\n\nVOs as a final touch to your video projects.\n\nRecording equipment will be available for\n\nyou to try your hand (and voice).\n\n\n\nFree to PortMedia members\, $15 for\n\nnon-members. Not a member yet? You can\n\njoin that night and take advantage of this\n\n& future workshops. Light refreshments will be served.\n\nYou must RSVP: sarahh@portmedia.org or 978-961-0350
X-ALT-DESC;FMTTYPE=text/html:Local Voice Over Artist and PortMedia Member Tom<br />\nGustafson will talk about adding professional sounding<br />\nVOs as a final touch to your video projects.<br />\nRecording equipment will be available for<br />\nyou to try your hand (and voice).<br />\n<br />\nFree to PortMedia members\, $15 for<br />\nnon-members. Not a member yet? You can<br />\njoin that night and take advantage of this<br />\n&amp\; future workshops. Light refreshments will be served.<br />\nYou must RSVP: sarahh@portmedia.org or 978-961-0350
LOCATION:PortMedia Studio 3 Graf Road\, Suite 11 Newburyport\, MA
UID:e.1189.2319
SEQUENCE:3
DTSTAMP:20260419T191240Z
URL:https://business.newburyportchamber.org/events/details/voice-over-tips-and-techniques-with-tom-gustafson-10-27-2011-2319
END:VEVENT

END:VCALENDAR
