BEGIN:VCALENDAR
VERSION:2.0
PRODID:-//ChamberMaster//Event Calendar 2.0//EN
METHOD:PUBLISH
X-PUBLISHED-TTL:P3D
REFRESH-INTERVAL:P3D
CALSCALE:GREGORIAN
BEGIN:VEVENT
DTSTART:20200703T120000Z
DTEND:20200703T130000Z
X-MICROSOFT-CDO-ALLDAYEVENT:FALSE
SUMMARY:Virtual Member Meetup
DESCRIPTION:
X-ALT-DESC;FMTTYPE=text/html:
LOCATION:Grab a cup of coffee and join our Zoom meetup. We will be hosting these virtual meetings every other Friday morning until we can see each other again. Pre-registration is required in the link below\, and check back soon to learn more about our guest speaker. https://us02web.zoom.us/meeting/register/tZwuduuuqTgtHdNmX9hYms8Piz6I3X5e0-zW
UID:e.1189.76770
SEQUENCE:3
DTSTAMP:20260422T095706Z
URL:https://business.newburyportchamber.org/events/details/virtual-member-meetup-76770
END:VEVENT

END:VCALENDAR
