BEGIN:VCALENDAR
VERSION:2.0
PRODID:-//ChamberMaster//Event Calendar 2.0//EN
METHOD:PUBLISH
X-PUBLISHED-TTL:P3D
REFRESH-INTERVAL:P3D
CALSCALE:GREGORIAN
BEGIN:VEVENT
DTSTART;VALUE=DATE:20110507
DTEND;VALUE=DATE:20110508
TRANSP:TRANSPARENT
X-MICROSOFT-CDO-ALLDAYEVENT:TRUE
SUMMARY:Vibrant Life Expo
DESCRIPTION:
X-ALT-DESC;FMTTYPE=text/html:
LOCATION:Maudslay Arts Center
UID:e.1189.1798
SEQUENCE:3
DTSTAMP:20260420T053058Z
URL:https://business.newburyportchamber.org/events/details/vibrant-life-expo-05-07-2011-1798
END:VEVENT

END:VCALENDAR
