BEGIN:VCALENDAR
VERSION:2.0
PRODID:-//ChamberMaster//Event Calendar 2.0//EN
METHOD:PUBLISH
X-PUBLISHED-TTL:P3D
REFRESH-INTERVAL:P3D
CALSCALE:GREGORIAN
BEGIN:VEVENT
DTSTART:20110219T050000Z
DTEND:20110219T050000Z
X-MICROSOFT-CDO-ALLDAYEVENT:FALSE
SUMMARY:Unknown Event
DESCRIPTION:Start the February School Vacation Week 2011 with some special fun!\n\nMagic Show and Kids’ Used Book Sale \n Saturday Afternoon\, Feb.19th\nNewburyport Public Library\n\nWell-known local magician Debbie O’Carroll will entertain the entire family with a free magic show Saturday\, February 19th.  This1/2 hour show will be in the Program Room of the Newburyport Public Library\, 94 State Street\, Newburyport\, starting at 1:30.   Parents must accompany children.\n\nA Kids’ Used Book Sale will open from2:00 – 3:30 p.m.\, will also be in the Program Room following the Magic Show.  The sale will offer inexpensive ($0.50) used books appropriate for preschoolers through Young Adult.  \n\nAny child stopping by the Children’s Room at the Public Library after February 5th\, will be given a free “buy one\,get one” coupon that can be cashed in with a purchase at the book sale. Limit one coupon per customer.  \n\nThese events are sponsored by the Friends of the Library and proceeds from the sale will benefit the Children’s Room. Should bad weather cause the library to be closed\, the show and sale willbe held at the same time on Sunday\, February 20th.
X-ALT-DESC;FMTTYPE=text/html:Start the February School Vacation Week 2011 with some special fun!\n\nMagic Show and Kids’ Used Book Sale \n Saturday Afternoon\, Feb.19th\nNewburyport Public Library\n\nWell-known local magician Debbie O’Carroll will entertain the entire family with a free magic show Saturday\, February 19th.  This1/2 hour show will be in the Program Room of the Newburyport Public Library\, 94 State Street\, Newburyport\, starting at 1:30.   Parents must accompany children.\n\nA Kids’ Used Book Sale will open from2:00 – 3:30 p.m.\, will also be in the Program Room following the Magic Show.  The sale will offer inexpensive ($0.50) used books appropriate for preschoolers through Young Adult.  \n\nAny child stopping by the Children’s Room at the Public Library after February 5th\, will be given a free “buy one\,get one” coupon that can be cashed in with a purchase at the book sale. Limit one coupon per customer.  \n\nThese events are sponsored by the Friends of the Library and proceeds from the sale will benefit the Children’s Room. Should bad weather cause the library to be closed\, the show and sale willbe held at the same time on Sunday\, February 20th.  \n
LOCATION:Newburyport Public Library
UID:e.1189.1796
SEQUENCE:3
DTSTAMP:20260420T091414Z
URL:https://business.newburyportchamber.org/events/details/unknown-event-02-19-2011-1796
END:VEVENT

END:VCALENDAR
