BEGIN:VCALENDAR
VERSION:2.0
PRODID:-//ChamberMaster//Event Calendar 2.0//EN
METHOD:PUBLISH
X-PUBLISHED-TTL:P3D
REFRESH-INTERVAL:P3D
CALSCALE:GREGORIAN
BEGIN:VEVENT
DTSTART;VALUE=DATE:20110624
DTEND;VALUE=DATE:20110625
TRANSP:TRANSPARENT
X-MICROSOFT-CDO-ALLDAYEVENT:TRUE
SUMMARY:Trustess Real Estate Auction
DESCRIPTION:Eventide Nursing Facility a 24 Bed Nursing HomeOriginally on the market at $825\,000 Trustee's saysell!! Suggested opening bid: $325\,000.00&nbsp\; Open Houses Wednesday June 15th and Wednesday June 22nd 4-6 pm
X-ALT-DESC;FMTTYPE=text/html:Eventide Nursing Facility a 24 Bed Nursing HomeOriginally on the market at $825\,000 Trustee&#39\;s saysell!! Suggested opening bid: $325\,000.00&amp\;nbsp\; Open Houses Wednesday June 15th and Wednesday June 22nd 4-6 pm
LOCATION:Eventide 81 High Street Exeter\, NH (978) 388-0400
UID:e.1189.1933
SEQUENCE:3
DTSTAMP:20260420T035049Z
URL:https://business.newburyportchamber.org/events/details/trustess-real-estate-auction-06-24-2011-1933
END:VEVENT

END:VCALENDAR
