BEGIN:VCALENDAR
VERSION:2.0
PRODID:-//ChamberMaster//Event Calendar 2.0//EN
METHOD:PUBLISH
X-PUBLISHED-TTL:P3D
REFRESH-INTERVAL:P3D
CALSCALE:GREGORIAN
BEGIN:VEVENT
DTSTART:20101029T040000Z
DTEND:20101029T040000Z
X-MICROSOFT-CDO-ALLDAYEVENT:FALSE
SUMMARY:TRICK OR TREAT at Downtown Newburyport & Tannery Businesses!
DESCRIPTION:Dress up the kids and head on down...  Downtown Newburyport & Tannery businesses are taking part in this fun way to Trick or Treat in Newburyport!
X-ALT-DESC;FMTTYPE=text/html:<DIV><SPAN style="FONT-FAMILY: Arial\; FONT-SIZE: 10pt"><DIV>Dress up the kids and head on down...&nbsp\; Downtown Newburyport &amp\; Tannery businesses are taking part&nbsp\;in this fun way to Trick or Treat in Newburyport!</DIV></SPAN></DIV>
LOCATION:Downtown Newburyport & The Tannery
UID:e.1189.1628
SEQUENCE:3
DTSTAMP:20260420T161014Z
URL:https://business.newburyportchamber.org/events/details/trick-or-treat-at-downtown-newburyport-tannery-businesses-10-29-2010-1628
END:VEVENT

END:VCALENDAR
