BEGIN:VCALENDAR
VERSION:2.0
PRODID:-//ChamberMaster//Event Calendar 2.0//EN
METHOD:PUBLISH
X-PUBLISHED-TTL:P3D
REFRESH-INTERVAL:P3D
CALSCALE:GREGORIAN
BEGIN:VEVENT
DTSTART:20111012T160000Z
DTEND:20111012T170000Z
X-MICROSOFT-CDO-ALLDAYEVENT:FALSE
SUMMARY:Travels to Transylvania Event at Meeting House Conference and Function Rooms
DESCRIPTION:At Noon\, the church Alliance will hold their meeting with a presentation by Rev. Harold E. Babcock on his travels to Transylvania.\n\n\n\nThe meeting is at noon\, bring your own brown bag lunch. Dessert and beverages will be provided.
X-ALT-DESC;FMTTYPE=text/html:At Noon\, the church Alliance will hold their meeting with a presentation by Rev. Harold E. Babcock on his travels to Transylvania.<br />\n<br />\nThe meeting is at noon\, bring your own brown bag lunch. Dessert and beverages will be provided. 
LOCATION:The First Religious Society 26 Pleasant Street Newburyport MA
UID:e.1189.2285
SEQUENCE:3
DTSTAMP:20260419T192117Z
URL:https://business.newburyportchamber.org/events/details/travels-to-transylvania-event-at-meeting-house-conference-and-function-rooms-10-12-2011-2285
END:VEVENT

END:VCALENDAR
