BEGIN:VCALENDAR
VERSION:2.0
PRODID:-//ChamberMaster//Event Calendar 2.0//EN
METHOD:PUBLISH
X-PUBLISHED-TTL:P3D
REFRESH-INTERVAL:P3D
CALSCALE:GREGORIAN
BEGIN:VEVENT
DTSTART:20110612T160000Z
DTEND:20110612T180000Z
X-MICROSOFT-CDO-ALLDAYEVENT:FALSE
SUMMARY:Train Time
DESCRIPTION:All aboard for Children's Museum of NH's celebration of trains on Sunday\, June 12 \n\n	\n\n	Dover\, NH (May 26\, 2011)   The Children's Museum of New Hampshire has created a special opportunity for young train enthusiasts that will include activities at the museum as well at the Dover Rail Yard.  The museum's first-ever Train Time event will take place on Sunday\, June 12 from noon   2 pm and all activities will be included in the museum's regular admission price ($8 adults & children\, $7 seniors\, children under 12 months old free).\n\n	\n\n	"We have known for years that kids are fascinated with trains\, as evidenced by the enduring interest in our wooden train set at the museum\," said Paula Rais\, Outreach Coordinator for the Children's Museum. "What began as a simple idea to create a event focused on trains has turned into something much bigger where children will not only learn a great deal about trains and safety\, but also climb aboard a real locomotive and meet railroad personnel. We are grateful to Pan Am Railways\, Amtrak Doweaster and Operation Lifesaver for their enthusiastic partnership in planning this event."\n\n	 \n\n	At the Train Time event\, children will issued special tickets as they enter and a uniformed train conductor from the Amtrak Downeaster will be on hand to talk with families\, answer questions and punch each child's ticket. Children will also receive free train activity books\, pencils\, engineer hats and more.\n\n	\n\n	In the museum's Project Area\, children can create their own colorful train mosaic to take home. In another part of the museum\, representatives of Operation Lifesaver will be on hand to educate families about rail safety. Operation Llfesaver is a national organization whose mission is to end collisions\, deaths and injuries at highway-rail grade crossings and on rail property through a network of volunteers in all 50 states. The group supports state safety programs by developing videos\, educational brochures and other materials for audiences of all ages.\n\n	 The off-site part of the Train Time event takes place at the Dover Railyard at 75 Oak Street\, just a short drive from the museum. As they leave the museum\, families will receive maps with driving directions to the railyard\, where they will be able to tour an authentic Pan Am freight locomotive engine. Volunteers from Pan Am Railways train police will be conducting train tours\, punching tickets and answering questions at the railyard.\n\n	\n\n	All of the Train Time activities will be offered earlier in the day for families participating in Exploring Our Way\, the Children's Museum of NH's Autism Partnership Program.
X-ALT-DESC;FMTTYPE=text/html:<p>\n	<font face="Verdana">&nbsp\;</font><font size="5"><font face="Halvorsen"><span style="font-size: 18px"><b>All aboard for Children&rsquo\;s Museum of NH&rsquo\;s celebration of trains on Sunday\, June 12 </b></span></font></font></p>\n<p>\n	<br />\n	<font face="Halvorsen"><font size="4"><span style="font-size: 14px">Dover\, NH (May 26\, 2011) &ndash\; The Children&rsquo\;s Museum of New Hampshire has created a special opportunity for young train enthusiasts that will include activities at the museum as well at the Dover Rail Yard. &nbsp\;<b>The museum&rsquo\;s first-ever <i>Train Time</i> event will take place on Sunday\, June 12 from noon &ndash\; 2 pm and all activities will be included in the museum&rsquo\;s regular admission price</b> ($8 adults &amp\; children\, $7 seniors\, children under 12 months old free).<br />\n	<br />\n	&ldquo\;We have known for years that kids are fascinated with trains\, as evidenced by the enduring interest in our wooden train set at the museum\,&rdquo\; said Paula Rais\, Outreach Coordinator for the Children&rsquo\;s Museum. &ldquo\;What began as a simple idea to create a event focused on trains has turned into something much bigger where children will not only learn a great deal about trains and safety\, but also climb aboard a real locomotive and meet railroad personnel. We are grateful to Pan Am Railways\, Amtrak Doweaster and Operation Lifesaver for their enthusiastic partnership in planning this event.&rdquo\;<br />\n	&nbsp\;</span></font></font><br />\n	<font face="Verdana\, Helvetica\, Arial"><span style="font-size: 12px">At the Train Time event\, </span></font><font size="4"><font face="Halvorsen"><span style="font-size: 14px">children will issued special tickets as they enter and a <b>uniformed train conductor from the Amtrak Downeaster will be on hand</b> to talk with families\, answer questions and punch each child&rsquo\;s ticket. Children will also receive <b>free train activity books\, pencils\, engineer hats and more.</b><br />\n	<br />\n	In the museum&rsquo\;s Project Area\, children can create their own colorful <b>train mosaic</b> to take home. In another part of the museum\, representatives of <b>Operation Lifesaver</b> will be on hand to educate families about <b>rail safety. </b>Operation Llfesaver is a national organization whose mission is to end collisions\, deaths and injuries at highway-rail grade crossings and on rail property through a network of volunteers in all 50 states. The group supports state safety programs by developing videos\, educational brochures and other materials for audiences of all ages.<br />\n	&nbsp\;<b>The off-site part of the <i>Train Time</i> event takes place at the Dover Railyard</b> at 75 Oak Street\, just a short drive from the museum. As they leave the museum\, families will receive maps with driving directions to the railyard\, where they will be able to <b>tour an authentic Pan Am freight locomotive engine. </b>Volunteers from <b>Pan Am Railways train police </b>will be conducting train tours\, punching tickets and answering questions at the railyard.</span></font></font><br />\n	<br />\n	<font size="4"><font face="Halvorsen"><span style="font-size: 14px">All of the <i>Train Time</i> activities will be offered earlier in the day for families participating in <i>Exploring Our Way</i>\, the Children&rsquo\;s Museum of NH&rsquo\;s Autism Partnership Program.</span></font></font></p>\n
LOCATION:Children's Museum of New Hampshire 6 Washington Street Dover\, NH 03820 (603) 742-2002
UID:e.1189.1867
SEQUENCE:3
DTSTAMP:20260420T015558Z
URL:https://business.newburyportchamber.org/events/details/train-time-06-12-2011-1867
END:VEVENT

END:VCALENDAR
