BEGIN:VCALENDAR
VERSION:2.0
PRODID:-//ChamberMaster//Event Calendar 2.0//EN
METHOD:PUBLISH
X-PUBLISHED-TTL:P3D
REFRESH-INTERVAL:P3D
CALSCALE:GREGORIAN
BEGIN:VEVENT
DTSTART:20111105T210000Z
DTEND:20111106T000000Z
X-MICROSOFT-CDO-ALLDAYEVENT:FALSE
SUMMARY:Third Annual Pizza-Tasting
DESCRIPTION:Pizza aficionados of all ages can cast their votes for best regional pizza restaurants at the Children's Museum of New Hampshire's third annual PizzaFest and Holiday Auction. The event is generously sponsored by D.F. Richard. Attendees will be able to sample different varieties of pizza from local purveyors\, then vote for their favorites. All proceeds benefit the museum's innovative education and outreach programs.\n\n \n\nSeacoast area pizza restaurants will be serving up both cheese and specialty pizzas for guests to sample and judge in the categories of Kids' Choice Cheese and Grown-Ups' Choice.  A judging panel will crown the Judges' Pick for Best Pizza\, Best Crust and Most Creative Toppings. This year's judging panel will include a student from the Culinary Arts program at the Regional Career Technical Center at Dover High School.\n\n \n\nEight pizza restaurants are already confirmed for this year's event: Dover House of Pizza\, Kendall Pond II\, La Festa Brick & Brew Pizzeria\, Papa Gino's\, River Bend Pizza & Subs\, Roger's Restaurant\, Smiley's\, and Uno's Chicago Grill.\n\n \n\nIn addition to all the pizza-tasting\, there will be activities for children including games\, interactive exploration of exhibits and face painting. This event is family friendly but adults on their own are also welcome\, as this is a great opportunity to start holiday shopping.\n\n \n\nThis year's Holiday Silent Auction will offer dozens of great gift ideas for family\, friends\, business associates and more.  Items up for bid will include ski passes to Cranmore Mountain Resort\, an overnight at the Inn & Spa at Mills Falls\, a one-week kids' kayak camp donated by Portsmouth Kayak Adventures\, a $500 certificate toward a solar installation from Revision Energy\, family portrait packages from Goldsmith Photography\, vehicle maintenance certificates from  Bill Dube Ford\, $50 of Usborne Books and much more.\n\n\n\nAdvance reservations are required as space is limited. Reservations can be made after October 3 by calling the museum at [603) 742-2002 during regular weekday business hours or making payment at the front desk.
X-ALT-DESC;FMTTYPE=text/html:Pizza aficionados of all ages can cast their votes for best regional pizza restaurants at the <b>Children&rsquo\;s Museum of New Hampshire&rsquo\;s third annual PizzaFest and Holiday Auction</b>. The event&nbsp\;is generously sponsored by <b>D.F. Richard</b>. Attendees will be able to sample different varieties of pizza from local purveyors\, then vote for their favorites. All proceeds benefit the museum&rsquo\;s innovative education and outreach programs.<br />\n&nbsp\;<br />\nSeacoast area pizza restaurants will be serving up both cheese and specialty pizzas for guests to sample and judge in the categories of <i>Kids&rsquo\; Choice Cheese</i> and <i>Grown-Ups&rsquo\; Choice</i>. &nbsp\;A judging panel will crown the <i>Judges&rsquo\; Pick</i> <i>for Best Pizza\, Best Crust and Most Creative Toppings</i>. This year&rsquo\;s judging panel will include a student from the Culinary Arts program at the Regional Career Technical Center at Dover High School.<br />\n&nbsp\;<br />\nEight pizza restaurants are already confirmed for this year&rsquo\;s event: Dover House of Pizza\, Kendall Pond II\, La Festa Brick &amp\; Brew Pizzeria\, Papa Gino&rsquo\;s\, River Bend Pizza &amp\; Subs\, Roger&rsquo\;s Restaurant\, Smiley&rsquo\;s\, and Uno&rsquo\;s Chicago Grill.<br />\n&nbsp\;<br />\nIn addition to all the pizza-tasting\, there will be activities for children including games\, interactive exploration of exhibits and face painting. This event is family friendly but adults on their own are also welcome\, as this is a great opportunity to start holiday shopping.<br />\n&nbsp\;<br />\nThis year&rsquo\;s Holiday Silent Auction will offer dozens of great gift ideas for family\, friends\, business associates and more. &nbsp\;Items up for bid will include ski passes to Cranmore Mountain Resort\, an overnight at the Inn &amp\; Spa at Mills Falls\, a one-week kids&rsquo\; kayak camp donated by Portsmouth Kayak Adventures\, a $500 certificate toward a solar installation from Revision Energy\, family portrait packages from Goldsmith Photography\, vehicle maintenance certificates from &nbsp\;Bill Dube Ford\, $50 of Usborne Books and much more.<br />\n<br />\nAdvance reservations are required as space is limited. Reservations can be made after October 3 by calling the museum at [603) 742-2002 during regular weekday business hours or making payment at the front desk.<br />\n<br />\n
LOCATION:Children's Museum of New Hampshire 6 Washington Street Dover NH 03820
UID:e.1189.2249
SEQUENCE:3
DTSTAMP:20260419T191147Z
URL:https://business.newburyportchamber.org/events/details/third-annual-pizza-tasting-11-05-2011-2249
END:VEVENT

END:VCALENDAR
