BEGIN:VCALENDAR
VERSION:2.0
PRODID:-//ChamberMaster//Event Calendar 2.0//EN
METHOD:PUBLISH
X-PUBLISHED-TTL:P3D
REFRESH-INTERVAL:P3D
CALSCALE:GREGORIAN
BEGIN:VEVENT
DTSTART:20111119T230000Z
DTEND:20111120T010000Z
X-MICROSOFT-CDO-ALLDAYEVENT:FALSE
SUMMARY:The Women of Walsingham Show and Fundraiser
DESCRIPTION:We are pleased to invite you to our show "The Women of Walsingham\," a fundraiser for women's health services of Anna Jaques Hospital.\n\n\n\nJoin us November 19th\, 6-8 p.m. at The Walsingham Gallery for a night of music\, cocktails\, hors d'oeuvres\, and the debut of exciting new works of art\, as fourteen outstanding females artists come together for one great cause.\n\n\n\nAn auction will be held for "At the Lily Pond\," 18x24 oil painting by renowned Contemporary Impressionist Judith Pumfrey.\n\n\n\n$25 General Admission\n\n\n\n$125 Patron Level Admission\, to include private champagne reception with the artists from 5-6 p.m.\, preview of the show\, and exhibition book\n\n\n\nAdmission\, auction\, and 10% of all artwork sold at event will benefit Anna Jaques Hospital.\n\n\n\nTickets available for purchase online:  www.ajh.kintera.org/walsingham \n\n\n\nand at event location: The Walsingham Gallery\, 47 Merrimac Street\, Newburyport MA 01950 \n\nphone: 978-499-4411
X-ALT-DESC;FMTTYPE=text/html:We are pleased to invite you to our show &quot\;The Women of Walsingham\,&quot\; a fundraiser for women&#39\;s health services of Anna Jaques Hospital.<br />\n<br />\nJoin us November 19th\, 6-8 p.m. at The Walsingham Gallery for a night of music\, cocktails\, hors d&#39\;oeuvres\, and the debut of exciting new works of art\, as fourteen outstanding females artists come together for one great cause.<br />\n<br />\nAn auction will be held for &quot\;At the Lily Pond\,&quot\; 18x24 oil painting by renowned Contemporary Impressionist Judith Pumfrey.<br />\n<br />\n$25 General Admission<br />\n<br />\n$125 Patron Level Admission\, to include private champagne reception with the artists from 5-6 p.m.\, preview of the show\, and exhibition book<br />\n<br />\nAdmission\, auction\, and 10% of all artwork sold at event will benefit Anna Jaques Hospital.<br />\n<br />\nTickets available for purchase online: &nbsp\;www.ajh.kintera.org/walsingham&nbsp\;<br />\n<br />\nand at event location: The Walsingham Gallery\, 47 Merrimac Street\, Newburyport MA 01950&nbsp\;<br />\nphone: 978-499-4411<br />\n<br />\n<br />\n
LOCATION:The Walsingham Gallery\, 47 Merrimac Street Newburyport
UID:e.1189.2367
SEQUENCE:3
DTSTAMP:20260419T174543Z
URL:https://business.newburyportchamber.org/events/details/the-women-of-walsingham-show-and-fundraiser-11-19-2011-2367
END:VEVENT

END:VCALENDAR
