BEGIN:VCALENDAR
VERSION:2.0
PRODID:-//ChamberMaster//Event Calendar 2.0//EN
METHOD:PUBLISH
X-PUBLISHED-TTL:P3D
REFRESH-INTERVAL:P3D
CALSCALE:GREGORIAN
BEGIN:VEVENT
DTSTART:20110922T220000Z
DTEND:20110923T010000Z
X-MICROSOFT-CDO-ALLDAYEVENT:FALSE
SUMMARY:The Wedding Event
DESCRIPTION:Planning a Wedding?  You're Invited!\n\n\n\nYou are invited to meet Greater Newburyport's most celebrated and sought after wedding professionals\, all dedicated to catering to local and destination couples alike. Enjoy signature cocktails\, delectable food & desserts samples\, raffles\, favor bags\, and the latest bridal fashions!\n\n\n\n\n\n\n\n\nWhat brides are saying about The Wedding Event!\n\n\n\n\n	"This is a great event... we went last year and found our bartending service\, hall &our cake all in one night!"\n\n	  Jenn\, Bride\n\n	\n\n	"The event was wonderful! All of the vendors were excellent\, it was wonderful to have such a varied selection of local vendors\, not the typical photographer and DJ filled events I've been to before. Thank you for putting on such a lovely event\, I'm armed and ready with all the info I need to get our wedding off to a great start!"\n\n	 Stephanie\, Bride\n\n\n\nAttention Vendors!\n\nBooth space is now available.\n\nClick Here for an application.\n\n\n\n\n  \n\nSee below for the Wedding Event 2011\n\nParticipating Wedding Professionals\n\n\n\n\n\nEssex Street Inn\, Accommodations \n\nFairfield Inn Amesbury\, Accommodations \n\nCoco Key Hotel & Water Resort Boston\, Accommodations  \n\nCountry Garden Inn & Spa\, Accommodations           \n\nNorth Shore Bartending Service\, Beverage Catering                             \n\nPure Bliss\, Bridal Attire\n\n125 Bridal Boutique\, Bridal Attire \n\nCakes for Occasions\, Cakes\n\nChococoa Baking Company & Cafe\, Cakes\, Desserts & Favors \n\nCarry Out Caf \, Catering & Spirits\n\nHarborside Catering\, Catering & Spirits\n\nMary Kay Cosmetics\, Cosmetics \n\nGet Down Tonight Entertainment\, Entertainment & Music\n\nNulmage Entertainment\, Entertainment & Music\n\nJanie Haas Events\, Event Coordination\n\nSt. Jean's Credit Union\, Financing \n\nFitness Together\, Fitness \n\nCreative Hope Design\, Floral Design\n\nKonstantina's Floral Design\, Floral Design\n\nNunan Florist\, Floral Design\n\nEvans Flowers\, Floral Design \n\nLongview at Georgetown\, Housing \n\nDebra A. Kennedy New York Life Insurance\, Insurance & Finance \n\nGreetings by Design\, Invitations\n\nThe Knot\, Other - Media Sponsor \n\nSeacoast Events\, Photo Booth\n\nAdriano Batti Photography\,Photography\n\nBharat Parmar Photography\, Photography\n\nLynwood Studio\, Photography\n\nPeter Morse Photography\, Photography\n\nA Perfect Image\, Photography\n\nDan Doke Photography\, Photography \n\nForward Bound Consulting\, LLC\, Relationship and Systems Coach \n\nKelly Taylor Rental\, Rentals & Lighting\n\nSpa Paradiso and Salon\, Salon & Spa\n\nEntertainment Specialists\, Rentals & Lighting \n\nFour Star Limousine\, Transportation\n\nBlack Tie Limousine\, Inc\, Transportation   \n\nAAA Travel\, Travel\n\nTop Notch Travel Service\, Travel\n\nThe Rose Keepsake Company\, Unique Gift Ideas/Jewelry\n\nBlack Swan Country Club\, Venue \n\nThe Pavilion Event Center\, Venue\n\nCaptain Fishing Parties/Cruises\, Venue\n\nVisual Excellence Video\, Videography
X-ALT-DESC;FMTTYPE=text/html:<span style="font-size: 16px"><strong>Planning a Wedding?&nbsp\; You&#39\;re Invited!</strong></span><br />\n<br />\n<strong>You are invited</strong> to meet Greater Newburyport&rsquo\;s most celebrated and sought after wedding professionals\, all dedicated to catering to local and destination couples alike. Enjoy signature cocktails\, delectable food &amp\; desserts samples\, raffles\, favor bags\, and the latest bridal fashions!<br />\n<br />\n<br />\n<hr />\n<br />\n<span style="font-size: 16px"><strong>What brides are saying about The Wedding Event!</strong></span><br />\n<br />\n<p style="text-align: right">\n	<span style="font-family: arial">&quot\;This is a great event... we went last year and found our bartending service\, hall &amp\;our cake all in one night!&quot\;<br />\n	&bull\; Jenn\, Bride<br />\n	<br />\n	&quot\;The event was wonderful! All of the vendors were excellent\, it was wonderful to have such a varied selection of local vendors\, not the typical photographer and DJ filled events I&#39\;ve been to before. Thank you for putting on such a lovely event\, I&#39\;m armed and ready with all the info I need to get our wedding off to a great start!&quot\;<br />\n	&bull\;Stephanie\, Bride</span></p>\n<hr />\n<br />\n<span style="font-size: 16px"><strong>Attention Vendors!</strong></span><br />\nBooth space is now available.<br />\n<a href="/files/448.pdf"><strong>Click Here</strong></a> for an application.<br />\n<br />\n<hr />\n<span style="font-size: 14px">&nbsp\;&nbsp\;<br />\n<span style="background: white"><span style="color: black">See below for the Wedding Event 2011</span></span><br />\n<span style="background: white"><span style="color: black"><strong>Participating Wedding Professionals</strong></span></span></span><br />\n<br />\n<br />\n<a href="http://www.essexstreetinn.com/">Essex Street Inn</a>\, <strong>Accommodations </strong><br />\n<a href="http://www.marriott.com/hotels/travel/mhtfa-fairfield-inn-amesbury/">Fairfield Inn Amesbury</a><strong>\, Accommodations </strong><br />\n<a href="http://www.cocokeyboston.com/">Coco Key Hotel &amp\; Water Resort Boston</a><strong><a href="http://www.cocokeyboston.com/">\,</a> Accommodations </strong>&nbsp\;<br />\n<a href="http://www.countrygardeninnandspa.com/">Country Garden Inn &amp\; Spa</a>\, <strong>Accommodations</strong> &nbsp\;&nbsp\;&nbsp\;&nbsp\;&nbsp\;&nbsp\;&nbsp\;&nbsp\;&nbsp\;&nbsp\;<br />\n<a href="http://www.northshorebartenders.com/">North Shore Bartending Service</a>\, <strong>Beverage Catering &nbsp\;&nbsp\;</strong>&nbsp\;&nbsp\;&nbsp\;&nbsp\;&nbsp\;&nbsp\;&nbsp\;&nbsp\;&nbsp\;&nbsp\;&nbsp\;&nbsp\;&nbsp\;&nbsp\;&nbsp\;&nbsp\;&nbsp\;&nbsp\;&nbsp\;&nbsp\;&nbsp\;&nbsp\;&nbsp\;&nbsp\;&nbsp\;&nbsp\;<br />\n<a href="http://www.pureblissbridals.com/">Pure Bliss</a>\, <strong>Bridal Attire</strong><br />\n<a href="http://www.125bridalboutique.com/">125 Bridal Boutique</a><strong>\, Bridal Attire </strong><br />\n<a href="http://www.cakes4occasions.com/">Cakes for Occasions</a>\, <strong>Cakes<br />\n<a href="http://www.chococoabaking.com/">Chococoa Baking Company &amp\; Cafe</a>\, Cakes\, Desserts &amp\; Favors </strong><br />\n<a href="http://www.carryoutcafe.com/">Carry Out Caf&eacute\;</a>\, <strong>Catering &amp\; Spirits</strong><br />\n<a href="http://www.harborsidecatering.com/">Harborside Catering</a>\, <strong>Catering &amp\; Spirits</strong><br />\n<a href="http://www.marykay.com/lwaraska/default.aspx">Mary Kay Cosmetics</a>\, <strong>Cosmetics </strong><br />\n<a href="http://www.getdowntonight.com/">Get Down Tonight Entertainment</a>\, <strong>Entertainment &amp\; Music</strong><br />\n<a href="http://www.nuimagedj.com/">Nulmage Entertainment</a>\, <strong>Entertainment &amp\; Music</strong><br />\n<a href="http://www.janiehaasevents.com/">Janie Haas Events</a>\, <strong>Event Coordination</strong><br />\n<a href="http://www.stjeanscu.com/home/home">St. Jean&#39\;s Credit Union</a><strong>\, Financing </strong><br />\n<a href="http://fitnesstogether.com/newburyport">Fitness Together</a><strong>\, Fitness </strong><br />\n<a href="http://www.creativehopedesign.com/">Creative Hope Design</a>\, <strong>Floral Design</strong><br />\n<a href="http://www.konstantinas.com/" target="_blank">Konstantina&#39\;s Floral Design</a><strong>\, Floral Design</strong><br />\n<a href="http://www.nunans.com/">Nunan Florist\,</a> <strong>Floral Design</strong><br />\n<a href="http://www.evansflowers.com/">Evans Flowers</a>\,<strong> Floral Design </strong><br />\n<a href="http://www.longviewapartments.com/">Longview at Georgetown\,</a><strong> Housing </strong><br />\nDebra A. Kennedy <a href="http://www.newyorklife.com/">New York Life Insurance</a><strong>\, Insurance &amp\; Finance </strong><br />\n<a href="http://www.greetingsbydesign.com/">Greetings by Design</a>\, <strong>Invitations</strong><br />\n<a href="http://www.theknot.com/">The Knot</a><strong>\, Other - Media Sponsor </strong><br />\n<a href="http://www.seacoastevents.net/">Seacoast Events</a>\, <strong>Photo Booth</strong><br />\n<a href="http://www.adrianobatti.com/">Adriano Batti Photography</a>\,<strong>Photography</strong><br />\n<a href="http://www.parmarphoto.com/">Bharat Parmar Photography</a>\, <strong>Photography</strong><br />\n<a href="http://www.lynwoodstudio.com/">Lynwood Studio</a>\, <strong>Photography</strong><br />\n<a href="http://www.petermorsephoto.com/">Peter Morse Photography</a>\, <strong>Photography</strong><br />\n<a href="http://www.perfectimagephoto.com/">A Perfect Image</a><strong><a href="http://www.perfectimagephoto.com/">\,</a> Photography</strong><br />\n<a href="http://www.dandoke.com/">Dan Doke Photography</a>\, <strong>Photography </strong><br />\nForward Bound Consulting\, LLC\, <strong>Relationship and Systems Coach </strong><br />\n<a href="http://www.taylorrental.com/home_page.asp">Kelly Taylor Rental</a>\, <strong>Rentals &amp\; Lighting</strong><br />\n<a href="http://www.spaparadisoandsalon.com/">Spa Paradiso and Salon</a><strong>\, Salon &amp\; Spa</strong><br />\n<a href="http://www.entertainmentspecialists.com/esj15/">Entertainment Specialists</a><strong>\, Rentals &amp\; Lighting </strong><br />\n<a href="http://www.fourstarlimo.com/">Four Star Limousine</a>\, <strong>Transportation</strong><br />\n<a href="http://www.blacktielimo.com/">Black Tie Limousine\, Inc</a><strong>\, Transportation &nbsp\;&nbsp\;</strong><br />\n<a href="http://www.merrimackvalley.aaa.com/mv/travel/index.php?zip=01950">AAA Travel</a>\, <strong>Travel</strong><br />\n<a href="http://www.top-notchtravel.com/">Top Notch Travel Service</a>\, <strong>Travel</strong><br />\n<a href="http://www.rosekeepsakes.com/">The Rose Keepsake Company</a>\, <strong>Unique Gift Ideas/Jewelry</strong><br />\n<a href="http://www.blackswancountryclub.com/">Black Swan Country Club</a>\, <strong>Venue&nbsp\;</strong><br />\n<a href="http://www.northshorepavilion.com/">The&nbsp\;Pavilion Event Center</a><strong>\, Venue</strong><br />\n<a href="http://www.captainsfishing.com/">Captain Fishing Parties/Cruises</a>\, <strong>Venue</strong><br />\n<a href="http://www.vevideo.com/">Visual Excellence Video</a>\, <strong>Videography&nbsp\;&nbsp\;</strong><br />\n
LOCATION:Black Swan Country Club 258 Andover Street Georgetown\, MA
UID:e.1189.1877
SEQUENCE:3
DTSTAMP:20260419T225539Z
URL:https://business.newburyportchamber.org/events/details/the-wedding-event-09-22-2011-1877
END:VEVENT

END:VCALENDAR
