BEGIN:VCALENDAR
VERSION:2.0
PRODID:-//ChamberMaster//Event Calendar 2.0//EN
METHOD:PUBLISH
X-PUBLISHED-TTL:P3D
REFRESH-INTERVAL:P3D
CALSCALE:GREGORIAN
BEGIN:VEVENT
DTSTART:20221015T140000Z
DTEND:20221016T000000Z
X-MICROSOFT-CDO-ALLDAYEVENT:FALSE
SUMMARY:The Stateroom Pop-up Gallery (Newburyport ArtWalk)
DESCRIPTION:Visit the Stateroom for this special one day Pop Up Gallery Event (free to the public) featuring artwork by: Heather Karp\, painter and illustrator featuring abstracted paintings of open spaces   and Robin Thornhill\, a New England based painter of landscapes\, seascapes & figures working in pastel\, oil & mixed media. Music and reception from 6-8pm.
X-ALT-DESC;FMTTYPE=text/html:Visit the Stateroom for this special one day Pop Up Gallery Event (free to the public) featuring artwork by: Heather Karp\, painter and illustrator featuring abstracted paintings of open spaces &mdash\; and Robin Thornhill\, a New England based painter of landscapes\, seascapes &amp\; figures working in pastel\, oil &amp\; mixed media. Music and reception from 6-8pm.
LOCATION:The Newburyport Studio Stateroom\, 59 State Street
UID:e.1189.95405
SEQUENCE:3
DTSTAMP:20260421T042535Z
URL:https://business.newburyportchamber.org/events/details/the-stateroom-pop-up-gallery-newburyport-artwalk-95405
END:VEVENT

END:VCALENDAR
