BEGIN:VCALENDAR
VERSION:2.0
PRODID:-//ChamberMaster//Event Calendar 2.0//EN
METHOD:PUBLISH
X-PUBLISHED-TTL:P3D
REFRESH-INTERVAL:P3D
CALSCALE:GREGORIAN
BEGIN:VEVENT
DTSTART:20120218T180000Z
DTEND:20120218T200000Z
X-MICROSOFT-CDO-ALLDAYEVENT:FALSE
SUMMARY:The Shipwrecks of Stellwagen Bank
DESCRIPTION:Join NOAA maritime archaeologists\, Deborah Marx and Matthew Lawrence for a tour of the Stellwagen Bank National Maritime Sanctuary's historic shipwrecks. Deborah and Matthew will present the 45-minute Science Channel's Viewers Choice Award winning documentary\, "The Wreck of the Steamship Portland." On Nov. 26\, 1898\, the Steamship Portland left India Wharf in Boston for Portland\, Maine\, on a regularly scheduled run. She never made it to port. After much speculation\, in 2002 researchers conclusively solved the mystery surrounding the Portland's location. The movie will be followed by a presentation on Sanctuary maritime heritage projects and a tour of the Sanctuary's exhibit at Maritime Gloucester. In 2011\, this event received a 2011 Trails & Sails "People's Choice Award" for being a top ten\, fan favorite!
X-ALT-DESC;FMTTYPE=text/html:Join NOAA maritime archaeologists\, Deborah Marx and Matthew Lawrence for a tour of the Stellwagen Bank National Maritime Sanctuary&#39\;s historic shipwrecks. Deborah and Matthew will present the 45-minute Science Channel&#39\;s Viewers Choice Award winning documentary\, &quot\;The Wreck of the Steamship Portland.&quot\; On Nov. 26\, 1898\, the Steamship Portland left India Wharf in Boston for Portland\, Maine\, on a regularly scheduled run. She never made it to port. After much speculation\, in 2002 researchers conclusively solved the mystery surrounding the Portland&#39\;s location. The movie will be followed by a presentation on Sanctuary maritime heritage projects and a tour of the Sanctuary&#39\;s exhibit at Maritime Gloucester. In 2011\, this event received a 2011 Trails &amp\; Sails &quot\;People&#39\;s Choice Award&quot\; for being a top ten\, fan favorite!
LOCATION:Maritime Gloucester 23 Harbor Loop Gloucester\, MA 01930
UID:e.1189.2890
SEQUENCE:3
DTSTAMP:20260419T141641Z
URL:https://business.newburyportchamber.org/events/details/the-shipwrecks-of-stellwagen-bank-02-18-2012-2890
END:VEVENT

END:VCALENDAR
