BEGIN:VCALENDAR
VERSION:2.0
PRODID:-//ChamberMaster//Event Calendar 2.0//EN
METHOD:PUBLISH
X-PUBLISHED-TTL:P3D
REFRESH-INTERVAL:P3D
CALSCALE:GREGORIAN
BEGIN:VEVENT
DTSTART:20110827T230000Z
DTEND:20110828T010000Z
X-MICROSOFT-CDO-ALLDAYEVENT:FALSE
SUMMARY:The Paul Broadnax Quintet
DESCRIPTION:Ever popular jazz vocalist\, pianist and Brownstone recording artist\, Broadnax will perform a specialconcert of jazz standards with his wonderful ensemble including saxman Fred Haas and one of Newburyport's favorite sons\, drummer Les Harris\, Jr. \n\n\n\n\n	Due to Hurricane Irene\, which forecasters predict will hit our area this weekend\, the Saturday evening performance of Paul Broadnax Quintet and the Sunday afternoon performance of Walker Creek Band have been cancelled.\n\n	 \n\n	In case of a cancellation\, all charged tickets sales will be refunded. Maudslay Arts Center regrets any inconvenience to our patrons.
X-ALT-DESC;FMTTYPE=text/html:Ever popular jazz vocalist\, pianist and Brownstone recording artist\, Broadnax will perform a specialconcert of jazz standards with his wonderful ensemble including saxman Fred Haas and one of Newburyport&#39\;s favorite sons\, drummer Les Harris\, Jr.&nbsp\;<br />\n<br />\n<div class="gmail_quote">\n	<em><span style="font-size: 14px"><span style="color: #ff0000">Due to Hurricane Irene\, which&nbsp\;forecasters&nbsp\;predict&nbsp\;will&nbsp\;hit our area this weekend\,&nbsp\;the Saturday evening performance of Paul Broadnax Quintet&nbsp\;and the Sunday afternoon performance of Walker Creek Band have been cancelled.</span></span></em></div>\n<div class="gmail_quote">\n	<em><span style="font-size: 14px"><span style="color: #ff0000">&nbsp\;</span></span></em><br />\n	<em><span style="font-size: 14px"><span style="color: #ff0000">In case of a cancellation\, all charged tickets sales will be refunded. Maudslay Arts Center regrets any inconvenience to our patrons.</span></span></em></div>\n<br />\n
LOCATION:Maudslay Arts Center 95 Curzon Mill Rd.\, Maudslay State Park Newburyport
UID:e.1189.2013
SEQUENCE:3
DTSTAMP:20260420T002201Z
URL:https://business.newburyportchamber.org/events/details/the-paul-broadnax-quintet-08-27-2011-2013
END:VEVENT

END:VCALENDAR
