BEGIN:VCALENDAR
VERSION:2.0
PRODID:-//ChamberMaster//Event Calendar 2.0//EN
METHOD:PUBLISH
X-PUBLISHED-TTL:P3D
REFRESH-INTERVAL:P3D
CALSCALE:GREGORIAN
BEGIN:VEVENT
DTSTART;VALUE=DATE:20111126
DTEND;VALUE=DATE:20111128
TRANSP:TRANSPARENT
X-MICROSOFT-CDO-ALLDAYEVENT:TRUE
SUMMARY:The Nutcracker at Firehouse Center for the Arts
DESCRIPTION:Long a traditional favorite\, Methuen Ballet Ensemble brings the holiday classic\, "The Nutcracker!" to The Firehouse for Performing Arts in Newburyport\, Massachusetts. Show dates and times are November 26th at 3:00 p.m. and 7:00 p.m. and November 27th at 3:00 p.m. Join the cast for a gala reception which will be held in the main lobby of The Firehouse at 6:00 p.m. on November 26th prior to the 7:00 show.\n\n\n\nMethuen Ballet Ensemble\, an established ballet company under the artistic direction of Vanessa Voter Shaheen\, has staged "The Nutcracker" for over twenty years. All principal roles are performed by members of Methuen Ballet Ensemble\, whose experience totals over 150 years of classical ballet training under Ms. Shaheen's tutelage! Students of Voter's School of Dance\, Gymnastics & Karate\, established 61 years ago by Pam Voter\, perform all other roles. Dancers hail from Methuen\, Lawrence\, Haverhill\, and N. Andover\, MA\, as well as Salem\, Pelham\, and Manchester\, NH.\n\n\n\nEach year\, the production has become more elaborate with stunning visual effects and custom-designed costumes by a well-known Canadian designer. All performances include a giant growing Christmas tree\, a heavenly mist\, and an abundance of snowfall. Come share in the magic of Methuen Ballet Ensemble's "The Nutcracker!"\n\n\n\nThis event is presented by Methuen Ballet Ensemble.
X-ALT-DESC;FMTTYPE=text/html:Long a traditional favorite\, Methuen Ballet Ensemble brings the holiday classic\, &quot\;The Nutcracker!&quot\; to The Firehouse for Performing Arts in Newburyport\, Massachusetts. Show dates and times are November 26th at 3:00 p.m. and 7:00 p.m. and November 27th at 3:00 p.m. Join the cast for a gala reception which will be held in the main lobby of The Firehouse at 6:00 p.m. on November 26th prior to the 7:00 show.<br />\n<br />\nMethuen Ballet Ensemble\, an established ballet company under the artistic direction of Vanessa Voter Shaheen\, has staged &ldquo\;The Nutcracker&rdquo\; for over twenty years. All principal roles are performed by members of Methuen Ballet Ensemble\, whose experience totals over 150 years of classical ballet training under Ms. Shaheen&rsquo\;s tutelage! Students of Voter&rsquo\;s School of Dance\, Gymnastics &amp\; Karate\, established 61 years ago by Pam Voter\, perform all other roles. Dancers hail from Methuen\, Lawrence\, Haverhill\, and N. Andover\, MA\, as well as Salem\, Pelham\, and Manchester\, NH.<br />\n<br />\nEach year\, the production has become more elaborate with stunning visual effects and custom-designed costumes by a well-known Canadian designer. All performances include a giant growing Christmas tree\, a heavenly mist\, and an abundance of snowfall. Come share in the magic of Methuen Ballet Ensemble&rsquo\;s &ldquo\;The Nutcracker!&rdquo\;<br />\n<br />\n<strong>This event is presented by Methuen Ballet Ensemble.</strong>
LOCATION:Firehouse Center for the Arts Market Square Newburyport MA 01950
UID:e.1189.2279
SEQUENCE:3
DTSTAMP:20260419T173010Z
URL:https://business.newburyportchamber.org/events/details/the-nutcracker-at-firehouse-center-for-the-arts-11-26-2011-2279
END:VEVENT

END:VCALENDAR
