BEGIN:VCALENDAR
VERSION:2.0
PRODID:-//ChamberMaster//Event Calendar 2.0//EN
METHOD:PUBLISH
X-PUBLISHED-TTL:P3D
REFRESH-INTERVAL:P3D
CALSCALE:GREGORIAN
BEGIN:VEVENT
DTSTART:20110702T230000Z
DTEND:20110703T010000Z
X-MICROSOFT-CDO-ALLDAYEVENT:FALSE
SUMMARY:The New Black Eagle Jazz Band
DESCRIPTION:Outdoor concert series
X-ALT-DESC;FMTTYPE=text/html:Outdoor concert series
LOCATION:Maudslay Arts Center 95 Curzon Mill Road Newburyport 978-499-0050
UID:e.1189.1960
SEQUENCE:3
DTSTAMP:20260420T002043Z
URL:https://business.newburyportchamber.org/events/details/the-new-black-eagle-jazz-band-07-02-2011-1960
END:VEVENT

END:VCALENDAR
