BEGIN:VCALENDAR
VERSION:2.0
PRODID:-//ChamberMaster//Event Calendar 2.0//EN
METHOD:PUBLISH
X-PUBLISHED-TTL:P3D
REFRESH-INTERVAL:P3D
CALSCALE:GREGORIAN
BEGIN:VEVENT
DTSTART;VALUE=DATE:20111122
DTEND;VALUE=DATE:20111123
TRANSP:TRANSPARENT
X-MICROSOFT-CDO-ALLDAYEVENT:TRUE
SUMMARY:The Junior Dessert Auction
DESCRIPTION:In lieu of a more traditional fundraiser\, Newburyport High School's Class of 2013 is hosting a Dessert Auction.\n\n	This is a live auction with a wide range of dessert items up for bid including traditional pies\, fancy cakes\, and elaborate sugary concoctions. Admission is free and complimentary coffee and cupcakes will be served.\n\n	\n\n	If you're looking for something to do\, or if you need a dessert for Thanksgiving\, feel free to stop by. You can stay for as much or as little of the evening as you'd like and there's no obligation to bid on anything.
X-ALT-DESC;FMTTYPE=text/html:<p>\n	<span lang="EN"><span lang="EN">In lieu of a more traditional fundraiser\, Newburyport High School&#39\;s Class of 2013 is hosting a Dessert Auction.</span></span></p>\n<p>\n	<span lang="EN">This is a&nbsp\;live auction with a wide range of dessert items up for bid including traditional pies\, fancy cakes\, and elaborate sugary concoctions. Admission is free and complimentary coffee and cupcakes will be served.<br />\n	<br />\n	If you&#39\;re looking for something to do\, or if you need a dessert for Thanksgiving\, feel free to stop by. You can stay for as much or as little of the evening as you&#39\;d like and there&#39\;s no obligation to bid on anything.</span></p>\n
LOCATION:The Newburyport High School Cafeteria
UID:e.1189.2388
SEQUENCE:3
DTSTAMP:20260419T173632Z
URL:https://business.newburyportchamber.org/events/details/the-junior-dessert-auction-11-22-2011-2388
END:VEVENT

END:VCALENDAR
