BEGIN:VCALENDAR
VERSION:2.0
PRODID:-//ChamberMaster//Event Calendar 2.0//EN
METHOD:PUBLISH
X-PUBLISHED-TTL:P3D
REFRESH-INTERVAL:P3D
CALSCALE:GREGORIAN
BEGIN:VEVENT
DTSTART:20111105T000000Z
DTEND:20111105T020000Z
X-MICROSOFT-CDO-ALLDAYEVENT:FALSE
SUMMARY:The Holaday Project at Firehouse Center for the Arts
DESCRIPTION:The Holaday Project is Joe Holaday and sons. That is\, Joe Holaday on bass and guitar (also a member of the bands Beatlejuice and The Fools)\; Jared Holaday on saxophones\, keyboards\; and P.J. Holaday playing drums and percussion.\n\n\n\nThe "Project" began over ten years ago when Dad Joe Holaday and sons\, Jared and P.J.\, began making music in the cellar of their Parsons St. home. " We'd jam a lot" says Joe a professional bass-player since he graduated from high school in 1975. " I wanted my sons to find music on their own\, if that's what they wanted\, and man I'm psyched they did."\n\n\n\nThe Band plays Jazz\, Funk\, Fusion\, Soul\, Latin\, Be-Bop\, Blues\, Motown\, and good old Rock and Roll. Culling from a myriad of influences\, these fearless musical omnivores will explore any and all musical genres in search of their own self-expression and for the delight of their Audiences.\n\n\n\nBe prepared to be entertained. Be prepared to have fun. Be prepared for the unexpected. Most of all\, be prepared to buy your tickets early -- this is sure to be a sell-out!
X-ALT-DESC;FMTTYPE=text/html:The Holaday Project is <strong>Joe Holaday</strong> and sons. That is\, Joe Holaday on bass and guitar (also a member of the bands Beatlejuice and The Fools)\; <strong>Jared Holaday</strong> on saxophones\, keyboards\; and <strong>P.J. Holaday</strong> playing drums and percussion.<br />\n<br />\nThe &ldquo\;Project&rdquo\; began over ten years ago when Dad Joe Holaday and sons\, Jared and P.J.\, began making music in the cellar of their Parsons St. home. &ldquo\; We&rsquo\;d jam a lot&rdquo\; says Joe a professional bass-player since he graduated from high school in 1975. &ldquo\; I wanted my sons to find music on their own\, if that&rsquo\;s what they wanted\, and man I&rsquo\;m psyched they did.&rdquo\;<br />\n<br />\nThe Band plays Jazz\, Funk\, Fusion\, Soul\, Latin\, Be-Bop\, Blues\, Motown\, and good old Rock and Roll. Culling from a myriad of influences\, these fearless musical omnivores will explore any and all musical genres in search of their own self-expression and for the delight of their Audiences.<br />\n<br />\nBe prepared to be entertained. Be prepared to have fun. Be prepared for the unexpected. Most of all\, be prepared to buy your tickets early -- this is sure to be a sell-out!
LOCATION:Firehouse Center for the Arts Market Square Newburyport\, MA 01950
UID:e.1189.2289
SEQUENCE:3
DTSTAMP:20260419T191939Z
URL:https://business.newburyportchamber.org/events/details/the-holaday-project-at-firehouse-center-for-the-arts-11-04-2011-2289
END:VEVENT

END:VCALENDAR
