BEGIN:VCALENDAR
VERSION:2.0
PRODID:-//ChamberMaster//Event Calendar 2.0//EN
METHOD:PUBLISH
X-PUBLISHED-TTL:P3D
REFRESH-INTERVAL:P3D
CALSCALE:GREGORIAN
BEGIN:VEVENT
DTSTART;VALUE=DATE:20110610
DTEND;VALUE=DATE:20110627
TRANSP:TRANSPARENT
X-MICROSOFT-CDO-ALLDAYEVENT:TRUE
SUMMARY:The Goat\, or Who is Sylvia?
DESCRIPTION:The Actors Studio of Newburyport is pleased to present The Goat\, or Who is Sylvia? by Tony Award winner and celebrated living playwright Edward Albee . The show is directed by Leslie Pasternack and featuring Steve Faria\, Pam Battin-Sacks\, Joe Berardi and Charles Van Eman. Prize-winning architect Martin Gray is at the pinnacle of his success.. and he's about to take a very hard fall. Edward Albee's The Goat has all the dimension of classical tragedy with the intimacy of a modern family drama. Caustically funny\, the play exposes the beastly dynamics of human love. Dates: June 10-June 26th\, 2011. Friday and Saturdays 8:00pm\; Sunday at 5:00pm. Tickets: Adults $18.00/ Students and Seniors $15.00. Call 978-465-1229 for reservations and information or go to www.newburyportacting to order online. Contains adult themes and language
X-ALT-DESC;FMTTYPE=text/html:The Actors Studio of Newburyport is pleased to present The Goat\, or Who is Sylvia? by Tony Award winner and celebrated living playwright Edward Albee . The show is directed by Leslie Pasternack and featuring Steve Faria\, Pam Battin-Sacks\, Joe Berardi and Charles Van Eman. Prize-winning architect Martin Gray is at the pinnacle of his success.. and he&rsquo\;s about to take a very hard fall. Edward Albee&rsquo\;s The Goat has all the dimension of classical tragedy with the intimacy of a modern family drama. Caustically funny\, the play exposes the beastly dynamics of human love. Dates: June 10-June 26th\, 2011. Friday and Saturdays 8:00pm\; Sunday at 5:00pm. Tickets: Adults $18.00/ Students and Seniors $15.00. Call 978-465-1229 for reservations and information or go to <a href="http://www.newburyportacting">www.newburyportacting</a> to order online. Contains adult themes and language
LOCATION:The Actors Studio at the Tannery The Tannery\, 50 Water St. \, Mill #1\, Suite #5 Newburyport
UID:e.1189.1863
SEQUENCE:3
DTSTAMP:20260420T035043Z
URL:https://business.newburyportchamber.org/events/details/the-goat-or-who-is-sylvia-06-10-2011-1863
END:VEVENT

END:VCALENDAR
