BEGIN:VCALENDAR
VERSION:2.0
PRODID:-//ChamberMaster//Event Calendar 2.0//EN
METHOD:PUBLISH
X-PUBLISHED-TTL:P3D
REFRESH-INTERVAL:P3D
CALSCALE:GREGORIAN
BEGIN:VEVENT
DTSTART:20111001T170000Z
DTEND:20111001T210000Z
X-MICROSOFT-CDO-ALLDAYEVENT:FALSE
SUMMARY:The Friends of the Nbpt. Council on Aging present a Silent Auction
DESCRIPTION:
X-ALT-DESC;FMTTYPE=text/html:
LOCATION:The Hope Church Hale Street in Newburyport\,Ma.
UID:e.1189.2206
SEQUENCE:3
DTSTAMP:20260419T192248Z
URL:https://business.newburyportchamber.org/events/details/the-friends-of-the-nbpt-council-on-aging-present-a-silent-auction-10-01-2011-2206
END:VEVENT

END:VCALENDAR
