BEGIN:VCALENDAR
VERSION:2.0
PRODID:-//ChamberMaster//Event Calendar 2.0//EN
METHOD:PUBLISH
X-PUBLISHED-TTL:P3D
REFRESH-INTERVAL:P3D
CALSCALE:GREGORIAN
BEGIN:VEVENT
DTSTART:20110716T230000Z
DTEND:20110717T010000Z
X-MICROSOFT-CDO-ALLDAYEVENT:FALSE
SUMMARY:The Don Campbell Band
DESCRIPTION:Great Country Music comes to Maudslay as The Don Campbell Band\, winners of the world's largest musical talent showcase\, the True Value Country Showdown. This outstanding group won 8 of 8 battles of the band competitions in '99 including the Country Showdown at the Grand Olde Opry. $20 Patio\, $18 Lawn. Order at: maudslayartscenter.org
X-ALT-DESC;FMTTYPE=text/html:Great Country Music comes to Maudslay as The Don Campbell Band\, winners of the world&#39\;s largest musical talent showcase\, the True Value Country Showdown. This outstanding group won 8 of 8 battles of the band competitions in &#39\;99 including the Country Showdown at the Grand Olde Opry. $20 Patio\, $18 Lawn. Order at: maudslayartscenter.org
LOCATION:Maudslay Arts Center 95 Curzon Mill Rd.\, Maudslay State Park Newburyport
UID:e.1189.1977
SEQUENCE:3
DTSTAMP:20260420T002032Z
URL:https://business.newburyportchamber.org/events/details/the-don-campbell-band-07-16-2011-1977
END:VEVENT

END:VCALENDAR
