BEGIN:VCALENDAR
VERSION:2.0
PRODID:-//ChamberMaster//Event Calendar 2.0//EN
METHOD:PUBLISH
X-PUBLISHED-TTL:P3D
REFRESH-INTERVAL:P3D
CALSCALE:GREGORIAN
BEGIN:VEVENT
DTSTART;VALUE=DATE:20111110
DTEND;VALUE=DATE:20111121
TRANSP:TRANSPARENT
X-MICROSOFT-CDO-ALLDAYEVENT:TRUE
SUMMARY:The Christina Experiment at Firehouse Center for the Arts
DESCRIPTION:By Deirdre Girard\n\nDirected by Stephen Haley\n\n\n\nA shotgun blast reverberates through this fast-paced drama which asks how much we can\, or should\, protect our children.\n\n\n\nChristina has painstakingly created a safe\, sheltered world for her high-spirited daughter Abby. But Christina's celebrity father is about to publish a new book that exposes her past -- forcing Christina to confront her deepest fears and the haunted man she once loved.\n\n\n\nWrapped inside a mystery\, The Christina Experiment is the story of a fragile family desperately trying to come together before their own pain and regret tear them apart forever.
X-ALT-DESC;FMTTYPE=text/html:By Deirdre Girard<br />\nDirected by Stephen Haley<br />\n<br />\nA shotgun blast reverberates through this fast-paced drama which asks how much we can\, or should\, protect our children.<br />\n<br />\nChristina has painstakingly created a safe\, sheltered world for her high-spirited daughter Abby. But Christina&#39\;s celebrity father is about to publish a new book that exposes her past -- forcing Christina to confront her deepest fears and the haunted man she once loved.<br />\n<br />\nWrapped inside a mystery\, The Christina Experiment is the story of a fragile family desperately trying to come together before their own pain and regret tear them apart forever.
LOCATION:Firehouse Center for the Arts Market Square Newburyport MA 01950
UID:e.1189.2277
SEQUENCE:3
DTSTAMP:20260419T174224Z
URL:https://business.newburyportchamber.org/events/details/the-christina-experiment-at-firehouse-center-for-the-arts-11-10-2011-2277
END:VEVENT

END:VCALENDAR
