BEGIN:VCALENDAR
VERSION:2.0
PRODID:-//ChamberMaster//Event Calendar 2.0//EN
METHOD:PUBLISH
X-PUBLISHED-TTL:P3D
REFRESH-INTERVAL:P3D
CALSCALE:GREGORIAN
BEGIN:VEVENT
DTSTART:20110324T210000Z
DTEND:20110325T000000Z
X-MICROSOFT-CDO-ALLDAYEVENT:FALSE
SUMMARY:The Chamber's Big Win!
DESCRIPTION:The Chamber's Big Win\nDon't miss out on your chance to win thousands in CASH.  Raffle tickets are on sale NOW!\n\nEvery ticket has the chance to win BIG!\nFirst Prize - $10\,000 \nSecond Prize - $2\,500\n(4) Third Prizes - $1\,000 each\n(7) Fourth Prizes - $500 each\n(5) Fifth Prizes - $200 each\n \nJoin us for the "Big Win... Big Party"!\nEnjoy live music\, dancing\, delicious food and the much anticipated raffle drawing on Thursday\, March 24\, 2011 - 5:30 to 8:00 PM at Mission Oak Grill\, 26 Green Street\, Newburyport.\n\nFor more information about The Chamber's Big Win raffle\, the big drawing and where to buy your lucky ticket\, click HERE!
X-ALT-DESC;FMTTYPE=text/html:<P><SPAN style="FONT-FAMILY: 'Century Gothic'\; FONT-SIZE: x-small"><STRONG>The Chamber's Big Win</STRONG></SPAN><STRONG><BR style="FONT-FAMILY: 'Century Gothic'\; FONT-SIZE: x-small"></STRONG><SPAN style="FONT-FAMILY: 'Century Gothic'\; FONT-SIZE: x-small">Don't miss out on your chance to win thousands in CASH.&nbsp\; Raffle tickets are </SPAN><SPAN style="FONT-FAMILY: 'Century Gothic'"><SPAN style="FONT-SIZE: x-small">on sale NOW!</SPAN></SPAN><BR style="FONT-FAMILY: 'Century Gothic'\; FONT-SIZE: x-small"><SPAN style="FONT-FAMILY: 'Century Gothic'"><BR style="FONT-SIZE: x-small"><SPAN style="FONT-SIZE: x-small"><STRONG>Every ticket has the chance to win BIG!</STRONG></SPAN><STRONG><BR style="FONT-SIZE: x-small"></STRONG><SPAN style="FONT-SIZE: x-small">First Prize - $10\,000 </SPAN></SPAN><BR style="FONT-FAMILY: 'Century Gothic'\; FONT-SIZE: x-small"><SPAN style="FONT-FAMILY: 'Century Gothic'\; FONT-SIZE: x-small">Second Prize - $2\,500</SPAN><BR style="FONT-FAMILY: 'Century Gothic'\; FONT-SIZE: x-small"><SPAN style="FONT-FAMILY: 'Century Gothic'\; FONT-SIZE: x-small">(4) Third Prizes - $1\,000 each</SPAN><BR style="FONT-FAMILY: 'Century Gothic'\; FONT-SIZE: x-small"><SPAN style="FONT-FAMILY: 'Century Gothic'\; FONT-SIZE: x-small">(7) Fourth Prizes - $500 each</SPAN><BR style="FONT-FAMILY: 'Century Gothic'\; FONT-SIZE: x-small"><SPAN style="FONT-FAMILY: 'Century Gothic'\; FONT-SIZE: x-small">(5) Fifth Prizes - $200 each</SPAN><BR style="FONT-FAMILY: 'Century Gothic'\; FONT-SIZE: x-small"><SPAN style="FONT-FAMILY: 'Century Gothic'">&nbsp\;<BR style="FONT-SIZE: x-small"><SPAN style="FONT-SIZE: x-small"><STRONG>Join us for the "Big Win... Big Party"!</STRONG></SPAN></SPAN><BR style="FONT-FAMILY: 'Century Gothic'\; FONT-SIZE: x-small"><SPAN style="FONT-FAMILY: 'Century Gothic'\; FONT-SIZE: x-small">Enjoy&nbsp\;live music\, dancing\, delicious food and the much anticipated raffle drawing on Thursday\, March 24\, 2011 - 5:30 to 8:00 PM at Mission Oak Grill</SPAN><SPAN style="FONT-FAMILY: 'Century Gothic'"><SPAN style="FONT-SIZE: x-small">\,&nbsp\;26 Green Street\, Newburyport.<BR><BR></SPAN></SPAN><SPAN style="FONT-FAMILY: 'Century Gothic'"><SPAN style="FONT-SIZE: x-small">For more information about&nbsp\;The Chamber's Big Win raffle\, the&nbsp\;big drawing&nbsp\;and where to buy your lucky ticket\,&nbsp\;click <A style="COLOR: blue\; TEXT-DECORATION: underline" title="" dataFld=0:0 href="http://www.newburyportchamber.org/big_win.shtml" target=_NewWindow><SPAN style="COLOR: #000000">HERE</SPAN></A>!</SPAN></SPAN></P>
LOCATION:
UID:e.1189.1656
SEQUENCE:3
DTSTAMP:20260420T073032Z
URL:https://business.newburyportchamber.org/events/details/the-chamber-s-big-win-03-24-2011-1656
END:VEVENT

END:VCALENDAR
