BEGIN:VCALENDAR
VERSION:2.0
PRODID:-//ChamberMaster//Event Calendar 2.0//EN
METHOD:PUBLISH
X-PUBLISHED-TTL:P3D
REFRESH-INTERVAL:P3D
CALSCALE:GREGORIAN
BEGIN:VEVENT
DTSTART:20110710T180000Z
DTEND:20110710T200000Z
X-MICROSOFT-CDO-ALLDAYEVENT:FALSE
SUMMARY:The Celtic Sojourn by Thomas Bracken
DESCRIPTION:see website \n\nmaudslayartscenter.org
X-ALT-DESC;FMTTYPE=text/html:see website&nbsp\;<br />\nmaudslayartscenter.org
LOCATION:Maudslay Arts Center 95 Curzon Mill Rd.\, Maudslay State Park Newburyport
UID:e.1189.1973
SEQUENCE:3
DTSTAMP:20260420T021217Z
URL:https://business.newburyportchamber.org/events/details/the-celtic-sojourn-by-thomas-bracken-07-10-2011-1973
END:VEVENT

END:VCALENDAR
