BEGIN:VCALENDAR
VERSION:2.0
PRODID:-//ChamberMaster//Event Calendar 2.0//EN
METHOD:PUBLISH
X-PUBLISHED-TTL:P3D
REFRESH-INTERVAL:P3D
CALSCALE:GREGORIAN
BEGIN:VEVENT
DTSTART:20111001T000000Z
DTEND:20111001T020000Z
X-MICROSOFT-CDO-ALLDAYEVENT:FALSE
SUMMARY:The Boston Horns at Firehouse Center for the Arts
DESCRIPTION:The Boston Horns: a..."Jazz/Funk explosion with a dash of New Orleans." Mostly original instrumentals and a few nasty vocal jams combine to make a world-class sound that will bring you to your feet. Don't miss this one -- the Firehouse may never be the same after all this funky music...\n\n\n\n.\n\n\n\n"  a band that rides in the pocket alongside such new-jack acidjazzers as Karl Denson\, Galactic and their brassy brethren. But the roots of the Boston Horns go back to the soul-jazz of the late '60s and the proto-funk of the Crusaders\, Tower of Power and Melvin Sparks\, whose exquisitely greasy lines grace some of `East Coast Funk."                                                                                                          -Boston Herald
X-ALT-DESC;FMTTYPE=text/html:The Boston Horns: a...&quot\;Jazz/Funk explosion with a dash of New Orleans.&quot\; Mostly original instrumentals and a few nasty vocal jams combine to make a world-class sound that will bring you to your feet. Don&#39\;t miss this one -- the Firehouse may never be the same after all this funky music...<br />\n<br />\n.<br />\n<br />\n&ldquo\;&hellip\; a band that rides in the pocket alongside such new-jack acidjazzers as Karl Denson\, Galactic and their brassy brethren. But the roots of the Boston Horns go back to the soul-jazz of the late &#39\;60s and the proto-funk of the Crusaders\, Tower of Power and Melvin Sparks\, whose exquisitely greasy lines grace some of `East Coast Funk.&quot\;&nbsp\;&nbsp\;&nbsp\;&nbsp\;&nbsp\;&nbsp\;&nbsp\;&nbsp\;&nbsp\;&nbsp\;&nbsp\;&nbsp\;&nbsp\;&nbsp\;&nbsp\;&nbsp\;&nbsp\;&nbsp\;&nbsp\;&nbsp\;&nbsp\;&nbsp\;&nbsp\;&nbsp\;&nbsp\;&nbsp\;&nbsp\;&nbsp\;&nbsp\;&nbsp\;&nbsp\;&nbsp\;&nbsp\;&nbsp\;&nbsp\;&nbsp\;&nbsp\;&nbsp\;&nbsp\;&nbsp\;&nbsp\;&nbsp\;&nbsp\;&nbsp\;&nbsp\;&nbsp\;&nbsp\;&nbsp\;&nbsp\;&nbsp\;&nbsp\;&nbsp\;&nbsp\;&nbsp\;&nbsp\;&nbsp\;&nbsp\;&nbsp\;&nbsp\;&nbsp\;&nbsp\;&nbsp\;&nbsp\;&nbsp\;&nbsp\;&nbsp\;&nbsp\;&nbsp\;&nbsp\;&nbsp\;&nbsp\;&nbsp\;&nbsp\;&nbsp\;&nbsp\;&nbsp\;&nbsp\;&nbsp\;&nbsp\;&nbsp\;&nbsp\;&nbsp\;&nbsp\;&nbsp\;&nbsp\;&nbsp\;&nbsp\;&nbsp\;&nbsp\;&nbsp\;&nbsp\;&nbsp\;&nbsp\;&nbsp\;&nbsp\;&nbsp\;&nbsp\;&nbsp\;&nbsp\;&nbsp\;&nbsp\;&nbsp\;&nbsp\;&nbsp\;&nbsp\; -<sub><em>Boston Herald</em></sub><br />\n<br />\n
LOCATION:Firehouse Center for the Arts Market Square Newburyport MA 01950
UID:e.1189.2274
SEQUENCE:3
DTSTAMP:20260419T230211Z
URL:https://business.newburyportchamber.org/events/details/the-boston-horns-at-firehouse-center-for-the-arts-09-30-2011-2274
END:VEVENT

END:VCALENDAR
