BEGIN:VCALENDAR
VERSION:2.0
PRODID:-//ChamberMaster//Event Calendar 2.0//EN
METHOD:PUBLISH
X-PUBLISHED-TTL:P3D
REFRESH-INTERVAL:P3D
CALSCALE:GREGORIAN
BEGIN:VEVENT
DTSTART:20111016T000000Z
DTEND:20111016T020000Z
X-MICROSOFT-CDO-ALLDAYEVENT:FALSE
SUMMARY:The Bob Wolfman Band at Firehouse Center for the Arts
DESCRIPTION:As front-man for his own band "The Bob Wolfman Band"\, Bob Wolfman still finds time to perform regularly with a host of the finest musicians around on the East Coast\, including his former mentor Larry Coryell. Much to the delight of his fans\, he's just released a long awaited new CD called The Howl. Drawing from a wide array of styles\, Bob has created a collection of songs that reflects his different influences\, ranging from Rock\, Jazz\, Funk\, Pop\, and of course Blues.\n\n\n\nAppearing with Wolfman at the Firehouse will be Amadee Castenell playing sax/flute\; Mike Gruen on bass\; Bruce Mattson on keyboards and vocals\; and Roger Brockelbank on drums.\n\n\n\nYou may have heard Wolfman at Glenn's Restaurant\, The Grog or Joseph's Winter Street Cafe. Now hear this maestro in the context of the Firehouse acoustics\, acclaimed by musicians far and wide. Get your tickets now...or you'll be singing the blues if you miss Wolfman's unique blend of blues\, rock and jazz.
X-ALT-DESC;FMTTYPE=text/html:As front-man for his own band <strong>&quot\;The Bob Wolfman Band&quot\;</strong>\, Bob Wolfman still finds time to perform regularly with a host of the finest musicians around on the East Coast\, including his former mentor <strong>Larry Coryell</strong>. Much to the delight of his fans\, he&#39\;s just released a long awaited new CD called <em>The Howl</em>. Drawing from a wide array of styles\, Bob has created a collection of songs that reflects his different influences\, ranging from Rock\, Jazz\, Funk\, Pop\, and of course Blues.<br />\n<br />\nAppearing with Wolfman at the Firehouse will be Amadee Castenell playing sax/flute\; Mike Gruen on bass\; <strong>Bruce Mattson</strong> on keyboards and vocals\; and <strong>Roger Brockelbank </strong>on drums.<br />\n<br />\nYou may have heard Wolfman at Glenn&#39\;s Restaurant\, The Grog or Joseph&#39\;s Winter Street Cafe. Now hear this maestro in the context of the Firehouse acoustics\, acclaimed by musicians far and wide. <strong>Get your tickets now...or you&#39\;ll be singing the blues if you miss Wolfman&#39\;s unique blend of blues\, rock and jazz. </strong>
LOCATION:Firehouse Center for the Arts Market Square Newburyport MA 01950
UID:e.1189.2272
SEQUENCE:3
DTSTAMP:20260419T211922Z
URL:https://business.newburyportchamber.org/events/details/the-bob-wolfman-band-at-firehouse-center-for-the-arts-10-15-2011-2272
END:VEVENT

END:VCALENDAR
