BEGIN:VCALENDAR
VERSION:2.0
PRODID:-//ChamberMaster//Event Calendar 2.0//EN
METHOD:PUBLISH
X-PUBLISHED-TTL:P3D
REFRESH-INTERVAL:P3D
CALSCALE:GREGORIAN
BEGIN:VEVENT
DTSTART;VALUE=DATE:20090101
DTEND;VALUE=DATE:20090416
TRANSP:TRANSPARENT
X-MICROSOFT-CDO-ALLDAYEVENT:TRUE
SUMMARY:The Big Win! (formally known as The Chamber Pot)
DESCRIPTION:Tickets for the Newburyport Chamber of Commerce annual raffle drawing\, newly branded as The Big Win (formally known as The Chamber Pot)\, are now on sale!  Tickets are $100 each. Over $20\,000 in CASH prizes!!! First prize - $10\,000 in cashSecond prize - $2\,500 in cash(4) Third prizes - $1\,000 each in cash(7) Fourth prizes - $500 each in cash(5) Fifth prizes - $200 each in cash Purchase your ticket by January 30 and be entered to win a $250 Newburyport Gift Certificate!  The winning ticket of this Early Bird Raffle will be pulled on February 2. You can purchase your winning ticket at any of the following locations:Newburyport Chamber OfficeSt. Jean’s Credit UnionLeary’s Fine WinesInn Street BarbershopKelly’s Taylor RentalKelly’s True ValueNew England Wine & SpiritsCarry Out CaféFirst National Bank of IpswichThe drawing of will happen in conjunction with the Chamber’s Annual Meeting in April 2009.  Date TBD. For more information\, call the Chamber Office at 978-462-6680\, or visit the website at http://www.newburyportchamber.org/big_win.shtml
X-ALT-DESC;FMTTYPE=text/html:<P class=MsoNormal style="MARGIN: 0in 0in 0pt\; LINE-HEIGHT: 200%"><FONT face=Arial><FONT size=4><SPAN style="FONT-FAMILY: Calibri">Tickets for the Newburyport Chamber of Commerce annual raffle drawing\, newly branded as The Big Win (formally known as The Chamber Pot)\, are now on sale!&nbsp\;&nbsp\;</SPAN><SPAN style="FONT-FAMILY: Calibri">Tickets are $100 each.<?xml:namespace prefix = o ns = "urn:schemas-microsoft-com:office:office" /><o:p></o:p></SPAN></FONT></FONT></P><P class=MsoNormal style="MARGIN: 0in 0in 0pt\; LINE-HEIGHT: 200%"><SPAN style="FONT-FAMILY: Calibri"><o:p><FONT face=Arial size=4>&nbsp\;</FONT></o:p></SPAN></P><P class=MsoNormal style="MARGIN: 0in 0in 0pt\; LINE-HEIGHT: 200%"><SPAN style="FONT-FAMILY: Calibri"><o:p><FONT face=Arial size=4>Over $20\,000 in CASH prizes!!!</FONT></o:p></SPAN></P><P class=MsoNormal style="MARGIN: 0in 0in 0pt\; LINE-HEIGHT: 200%"><SPAN style="FONT-FAMILY: Calibri"><o:p></o:p></SPAN><FONT face=Arial size=4>&nbsp\;</FONT></P><P class=MsoNormal style="MARGIN: 0in 0in 0pt\; LINE-HEIGHT: 200%"><SPAN style="FONT-FAMILY: Calibri"><SPAN style="mso-spacerun: yes"><FONT face=Arial size=4>First prize&nbsp\;- $10\,000 in cash</FONT></SPAN></SPAN></P><P class=MsoNormal style="MARGIN: 0in 0in 0pt\; LINE-HEIGHT: 200%"><SPAN style="FONT-FAMILY: Calibri"><SPAN style="mso-spacerun: yes"><FONT face=Arial size=4>Second prize - $2\,500 in cash</FONT></SPAN></SPAN></P><P class=MsoNormal style="MARGIN: 0in 0in 0pt\; LINE-HEIGHT: 200%"><SPAN style="FONT-FAMILY: Calibri"><SPAN style="mso-spacerun: yes"><FONT face=Arial size=4>(4) Third prizes -&nbsp\;$1\,000 each in cash</FONT></SPAN></SPAN></P><P class=MsoNormal style="MARGIN: 0in 0in 0pt\; LINE-HEIGHT: 200%"><SPAN style="FONT-FAMILY: Calibri"><SPAN style="mso-spacerun: yes"><FONT face=Arial size=4>(7) Fourth prizes -&nbsp\;$500 each in cash</FONT></SPAN></SPAN></P><P class=MsoNormal style="MARGIN: 0in 0in 0pt\; LINE-HEIGHT: 200%"><SPAN style="FONT-FAMILY: Calibri"><SPAN style="mso-spacerun: yes"><FONT face=Arial size=4>(5) Fifth prizes - $200 each in cash</FONT></SPAN></SPAN></P><P class=MsoNormal style="MARGIN: 0in 0in 0pt\; LINE-HEIGHT: 200%"><SPAN style="FONT-FAMILY: Calibri"><FONT face=Arial size=4></FONT></SPAN>&nbsp\;</P><P class=MsoNormal style="MARGIN: 0in 0in 0pt\; LINE-HEIGHT: 200%"><SPAN style="FONT-FAMILY: Calibri"><FONT face=Arial size=4>Purchase your ticket by January 30 and be entered to win a $250 Newburyport Gift Certificate!<SPAN style="mso-spacerun: yes">&nbsp\; </SPAN>The winning ticket of this Early Bird Raffle will be pulled on February 2.</FONT></SPAN></P><P class=MsoNormal style="MARGIN: 0in 0in 0pt\; LINE-HEIGHT: 200%"><SPAN style="FONT-FAMILY: Calibri"><FONT face=Arial size=4></FONT></SPAN>&nbsp\;</P><SPAN style="FONT-FAMILY: Calibri"><o:p><P class=MsoNormal style="MARGIN: 0in 0in 0pt\; LINE-HEIGHT: 200%"></o:p></SPAN><SPAN style="FONT-FAMILY: Calibri"><SPAN style="FONT-FAMILY: Calibri"><SPAN style="FONT-FAMILY: Calibri"><FONT face=Arial size=4>You can purchase your winning ticket at any of the following locations:</FONT></SPAN></SPAN></P><UL><LI><DIV class=MsoNormal style="MARGIN: 0in 0in 0pt\; LINE-HEIGHT: 200%"><SPAN style="FONT-FAMILY: Calibri"><SPAN style="FONT-FAMILY: Calibri"><FONT face=Arial size=4>Newburyport&nbsp\;Chamber Office</FONT></SPAN></SPAN></DIV><LI><DIV class=MsoNormal style="MARGIN: 0in 0in 0pt\; LINE-HEIGHT: 200%"><SPAN style="FONT-FAMILY: Calibri"><?xml:namespace prefix = st1 ns = "urn:schemas-microsoft-com:office:smarttags" /><st1:address><st1:Street><SPAN style="FONT-FAMILY: Calibri"></SPAN></st1:Street><st1:City><FONT face=Arial><FONT size=4><SPAN style="FONT-FAMILY: Calibri">St. </SPAN><st1:PersonName><SPAN style="FONT-FAMILY: Calibri">Jean</SPAN></st1:PersonName></FONT></FONT></st1:City></st1:address><SPAN style="FONT-FAMILY: Calibri"><FONT face=Arial size=4>’s Credit Union</FONT></SPAN></SPAN></DIV><LI><DIV class=MsoNormal style="MARGIN: 0in 0in 0pt\; LINE-HEIGHT: 200%"><SPAN style="FONT-FAMILY: Calibri"><st1:Street><st1:address><SPAN style="FONT-FAMILY: Calibri"></SPAN></st1:address></st1:Street><SPAN style="FONT-FAMILY: Calibri"><FONT face=Arial size=4>Leary’s Fine Wines</FONT></SPAN></SPAN></DIV><LI><DIV class=MsoNormal style="MARGIN: 0in 0in 0pt\; LINE-HEIGHT: 200%"><SPAN style="FONT-FAMILY: Calibri"><SPAN style="FONT-FAMILY: Calibri"></SPAN></SPAN><SPAN style="FONT-FAMILY: Calibri"><st1:Street><st1:address><SPAN style="FONT-FAMILY: Calibri"></SPAN></st1:address></st1:Street><SPAN style="FONT-FAMILY: Calibri"><FONT face=Arial size=4>Inn Street Barbershop</FONT></SPAN></SPAN></DIV><LI><DIV class=MsoNormal style="MARGIN: 0in 0in 0pt\; LINE-HEIGHT: 200%"><SPAN style="FONT-FAMILY: Calibri"><SPAN style="FONT-FAMILY: Calibri"><FONT face=Arial size=4>Kelly’s Taylor Rental</FONT></SPAN></SPAN></DIV><LI><DIV class=MsoNormal style="MARGIN: 0in 0in 0pt\; LINE-HEIGHT: 200%"><SPAN style="FONT-FAMILY: Calibri"><SPAN style="FONT-FAMILY: Calibri"></SPAN></SPAN><SPAN style="FONT-FAMILY: Calibri"><SPAN style="FONT-FAMILY: Calibri"><FONT face=Arial size=4>Kelly’s True Value</FONT></SPAN></SPAN></DIV><LI><DIV class=MsoNormal style="MARGIN: 0in 0in 0pt\; LINE-HEIGHT: 200%"><SPAN style="FONT-FAMILY: Calibri"><SPAN style="FONT-FAMILY: Calibri"><FONT face=Arial size=4>New England Wine &amp\; Spirits</FONT></SPAN></SPAN></DIV><LI><DIV class=MsoNormal style="MARGIN: 0in 0in 0pt\; LINE-HEIGHT: 200%"><FONT face=Arial><FONT size=4><SPAN style="FONT-FAMILY: Calibri"><SPAN style="FONT-FAMILY: Calibri">C</SPAN></SPAN><SPAN style="FONT-FAMILY: Calibri"><SPAN style="FONT-FAMILY: Calibri">arry Out Café</SPAN></SPAN></FONT></FONT></DIV></LI><LI><DIV class=MsoNormal style="MARGIN: 0in 0in 0pt\; LINE-HEIGHT: 200%"><FONT face=Arial size=4><SPAN style="FONT-FAMILY: Calibri"><SPAN style="FONT-FAMILY: Calibri">First National Bank of Ipswich</SPAN></SPAN></FONT></DIV></LI></UL></SPAN><P class=MsoNormal style="MARGIN: 0in 0in 0pt\; LINE-HEIGHT: 200%"><SPAN style="FONT-FAMILY: Calibri"><SPAN style="FONT-FAMILY: Calibri"><SPAN style="FONT-FAMILY: Calibri"><FONT face=Arial><FONT size=4><SPAN style="FONT-FAMILY: Calibri">The drawing of will happen in conjunction with the Chamber’s </SPAN><st1:PersonName><SPAN style="FONT-FAMILY: Calibri">Ann</SPAN></st1:PersonName><SPAN style="FONT-FAMILY: Calibri">ual Meeting in April 2009.&nbsp\; Date TBD.</SPAN></FONT></FONT></SPAN></SPAN></SPAN></P><P class=MsoNormal style="MARGIN: 0in 0in 0pt\; LINE-HEIGHT: 200%"><SPAN style="FONT-FAMILY: Calibri"><FONT face=Arial size=4></FONT></SPAN>&nbsp\;</P><P class=MsoNormal style="MARGIN: 0in 0in 0pt\; LINE-HEIGHT: 200%"><SPAN style="FONT-FAMILY: Calibri"><FONT face=Arial size=4>For more information\, call the Chamber Office at 978-462-6680\, or visit the website at </FONT><A dataFld=0:0 title=www.newburyportchamber.org/big_win style="COLOR: blue\; TEXT-DECORATION: underline" href="http://www.newburyportchamber.org/big_win.shtml" target=_self><FONT face=Arial size=4>http://www.newburyportchamber.org/big_win.shtml</FONT></A></SPAN></P>
LOCATION:
UID:e.1189.1153
SEQUENCE:3
DTSTAMP:20260422T042002Z
URL:https://business.newburyportchamber.org/events/details/the-big-win-formally-known-as-the-chamber-pot-01-01-2009-1153
END:VEVENT

END:VCALENDAR
