BEGIN:VCALENDAR
VERSION:2.0
PRODID:-//ChamberMaster//Event Calendar 2.0//EN
METHOD:PUBLISH
X-PUBLISHED-TTL:P3D
REFRESH-INTERVAL:P3D
CALSCALE:GREGORIAN
BEGIN:VEVENT
DTSTART;VALUE=DATE:20111124
DTEND;VALUE=DATE:20111125
TRANSP:TRANSPARENT
X-MICROSOFT-CDO-ALLDAYEVENT:TRUE
SUMMARY:Thanksgiving Day Dinner
DESCRIPTION:For over 20 years\, the Lions Club of Newburyport as sponsored a Thanksgiving Dinner hosted in various churches for all those who would like to have dinner that day in a family and friendly atmosphere.  This year we are blessed to have Lieutenants Jeffrey and Megan Brunelle of the Salvation Army to host the event.\n\n\n\nDinner will be a choice of either turkey or ham with all the trimmings and we a planning to proved entertainment\, as well.\n\n\n\nThere is no charge for this dinner.  We are asking for donations to help defray the cost of the meal.\n\n\n\nPlease sent your donation to:\n\n	Newburyport Lions Club\n\n	2011 Thanksgiving Dinner\n\n	PO Box 545\n\n	    Newburyport\, MA  01950
X-ALT-DESC;FMTTYPE=text/html:For over 20 years\, the Lions Club of Newburyport as sponsored a Thanksgiving Dinner hosted in various churches for all those who would like to have dinner that day in a family and friendly atmosphere.&nbsp\; This year we are blessed to have Lieutenants Jeffrey and Megan Brunelle of the Salvation Army to host the event.<br />\n<br />\nDinner will be a choice of either turkey or ham with all the trimmings and we a planning to proved entertainment\, as well.<br />\n<br />\nThere is no charge for this dinner.&nbsp\; We are asking for donations to help defray the cost of the meal.<br />\n<br />\nPlease sent your donation to:\n<p style="text-align: center">\n	Newburyport Lions Club<br />\n	2011 Thanksgiving Dinner<br />\n	PO Box 545<br />\n	&nbsp\;&nbsp\;&nbsp\;&nbsp\;Newburyport\, MA&nbsp\; 01950</p>\n
LOCATION:Salvation Army 40 Water Street Newburyport
UID:e.1189.2299
SEQUENCE:3
DTSTAMP:20260419T172512Z
URL:https://business.newburyportchamber.org/events/details/thanksgiving-day-dinner-11-24-2011-2299
END:VEVENT

END:VCALENDAR
