BEGIN:VCALENDAR
VERSION:2.0
PRODID:-//ChamberMaster//Event Calendar 2.0//EN
METHOD:PUBLISH
X-PUBLISHED-TTL:P3D
REFRESH-INTERVAL:P3D
CALSCALE:GREGORIAN
BEGIN:VEVENT
DTSTART:20111124T170000Z
DTEND:20111124T230000Z
X-MICROSOFT-CDO-ALLDAYEVENT:FALSE
SUMMARY:Thanksgiving at Ten Center
DESCRIPTION:Join us for our annual Thankgiving Dinner Buffet where you can savor traditional fare in a festive holiday setting that is both historic and hip! We will have three seatings at 12pm\, 2pm\, and 4pm. $55/person\, $15 for kids ages 6-12\, and children under 6 are free. Reservations required - call 978.462.6652. Click on the link to see the delectable menu! http://www.tencenterstreet.com/i/thanksmenu.jpg
X-ALT-DESC;FMTTYPE=text/html:Join us for our annual Thankgiving Dinner Buffet where you can savor traditional fare in a festive holiday setting that is both historic and hip! We will have three seatings at 12pm\, 2pm\, and 4pm. $55/person\, $15 for kids ages 6-12\, and children under 6 are free. Reservations required - call 978.462.6652. Click on the link to see the delectable menu! http://www.tencenterstreet.com/i/thanksmenu.jpg<br />\n
LOCATION:Ten Center Street
UID:e.1189.2379
SEQUENCE:3
DTSTAMP:20260419T173752Z
URL:https://business.newburyportchamber.org/events/details/thanksgiving-at-ten-center-11-24-2011-2379
END:VEVENT

END:VCALENDAR
